BEGIN:VCALENDAR
VERSION:2.0
PRODID:-//Olá, Serra Gaúcha! - ECPv6.3.5//NONSGML v1.0//EN
CALSCALE:GREGORIAN
METHOD:PUBLISH
X-ORIGINAL-URL:https://controle.olaserragaucha.com.br
X-WR-CALDESC:Eventos para Olá, Serra Gaúcha!
REFRESH-INTERVAL;VALUE=DURATION:PT1H
X-Robots-Tag:noindex
X-PUBLISHED-TTL:PT1H
BEGIN:VTIMEZONE
TZID:America/Sao_Paulo
BEGIN:STANDARD
TZOFFSETFROM:-0200
TZOFFSETTO:-0300
TZNAME:-03
DTSTART:20190217T020000
END:STANDARD
END:VTIMEZONE
BEGIN:VEVENT
DTSTART;TZID=America/Sao_Paulo:20191121T190000
DTEND;TZID=America/Sao_Paulo:20191121T223000
DTSTAMP:20260419T111404
CREATED:20191113T201726Z
LAST-MODIFIED:20191113T201726Z
UID:15915-1574362800-1574375400@controle.olaserragaucha.com.br
SUMMARY:24º Encontro da Confraria do Espumante de Garibaldi
DESCRIPTION:
URL:https://controle.olaserragaucha.com.br/evento/24o-encontro-da-confraria-do-espumante-de-garibaldi/
LOCATION:Casa Pedrucci – Garibaldi
ATTACH;FMTTYPE=image/jpeg:https://controle.olaserragaucha.com.br/wp-content/uploads/2019/11/Casa-Pedrucci-nov-2019.jpg
END:VEVENT
BEGIN:VEVENT
DTSTART;TZID=America/Sao_Paulo:20191121T183000
DTEND;TZID=America/Sao_Paulo:20191121T193000
DTSTAMP:20260419T111404
CREATED:20191121T211741Z
LAST-MODIFIED:20191121T211741Z
UID:16061-1574361000-1574364600@controle.olaserragaucha.com.br
SUMMARY:Inauguração do Procon Carlos Barbosa
DESCRIPTION:
URL:https://controle.olaserragaucha.com.br/evento/inauguracao-do-procon-carlos-barbosa/
ATTACH;FMTTYPE=image/jpeg:https://controle.olaserragaucha.com.br/wp-content/uploads/2019/11/RP-Inauguração-do-Procon-21.11.jpg
END:VEVENT
BEGIN:VEVENT
DTSTART;TZID=America/Sao_Paulo:20191121T114500
DTEND;TZID=America/Sao_Paulo:20191121T131500
DTSTAMP:20260419T111404
CREATED:20191118T190549Z
LAST-MODIFIED:20191118T190549Z
UID:15966-1574336700-1574342100@controle.olaserragaucha.com.br
SUMMARY:Almoçando com a CICS com Hector Alves: Startup Weekend
DESCRIPTION:
URL:https://controle.olaserragaucha.com.br/evento/almocando-com-a-cics-com-hector-alves-startup-weekend/
LOCATION:Restaurante Parque dos Pinheiros – Farroupilha
ATTACH;FMTTYPE=image/jpeg:https://controle.olaserragaucha.com.br/wp-content/uploads/2019/11/CICS-FARROUPILHA-01.jpg
END:VEVENT
BEGIN:VEVENT
DTSTART;TZID=America/Sao_Paulo:20191119T190000
DTEND;TZID=America/Sao_Paulo:20191119T220000
DTSTAMP:20260419T111404
CREATED:20191113T201618Z
LAST-MODIFIED:20191113T202302Z
UID:15913-1574190000-1574200800@controle.olaserragaucha.com.br
SUMMARY:Lançamento da 17ª Fenavinho
DESCRIPTION:
URL:https://controle.olaserragaucha.com.br/evento/lancamento-da-17a-fenavinho/
LOCATION:Hotel Villa Michelon – Bento Gonçalves
ATTACH;FMTTYPE=image/jpeg:https://controle.olaserragaucha.com.br/wp-content/uploads/2019/11/Convite-Lançamento-Fenavinho.jpg
END:VEVENT
BEGIN:VEVENT
DTSTART;TZID=America/Sao_Paulo:20191119T080000
DTEND;TZID=America/Sao_Paulo:20191119T120000
DTSTAMP:20260419T111404
CREATED:20191113T201502Z
LAST-MODIFIED:20191113T201502Z
UID:15910-1574150400-1574164800@controle.olaserragaucha.com.br
SUMMARY:Governança para Nova Economia
DESCRIPTION:
URL:https://controle.olaserragaucha.com.br/evento/governanca-para-nova-economia/
LOCATION:Hotel Villa Michelon – Bento Gonçalves
ATTACH;FMTTYPE=image/jpeg:https://controle.olaserragaucha.com.br/wp-content/uploads/2019/11/GOVERNANÇA-PARA-NOVA-ECONOMIA.jpg
END:VEVENT
BEGIN:VEVENT
DTSTART;TZID=America/Sao_Paulo:20191118T083000
DTEND;TZID=America/Sao_Paulo:20191118T123000
DTSTAMP:20260419T111404
CREATED:20191113T201411Z
LAST-MODIFIED:20191113T201411Z
UID:15909-1574065800-1574080200@controle.olaserragaucha.com.br
SUMMARY:Início da 1ª Conferência Internacional de Educação Ambiental
DESCRIPTION:
URL:https://controle.olaserragaucha.com.br/evento/inicio-da-1a-conferencia-internacional-de-educacao-ambiental/
LOCATION:Fundação Casa das Artes – Bento Gonçalves
END:VEVENT
BEGIN:VEVENT
DTSTART;TZID=America/Sao_Paulo:20191115T200000
DTEND;TZID=America/Sao_Paulo:20191115T220000
DTSTAMP:20260419T111404
CREATED:20191111T130813Z
LAST-MODIFIED:20191114T175339Z
UID:15824-1573848000-1573855200@controle.olaserragaucha.com.br
SUMMARY:Abertura do Natal Bento
DESCRIPTION:Evento transferido para o dia 15.11. – sexta-feira.
URL:https://controle.olaserragaucha.com.br/evento/abertura-do-natal-bento-2/
LOCATION:Via Del Vino – Bento Gonçalves
ATTACH;FMTTYPE=image/jpeg:https://controle.olaserragaucha.com.br/wp-content/uploads/2019/11/NATAL-BENTO.jpeg
END:VEVENT
BEGIN:VEVENT
DTSTART;TZID=America/Sao_Paulo:20191115T100000
DTEND;TZID=America/Sao_Paulo:20191116T220000
DTSTAMP:20260419T111404
CREATED:20191112T153311Z
LAST-MODIFIED:20191112T153732Z
UID:15868-1573812000-1573941600@controle.olaserragaucha.com.br
SUMMARY:2ª Vieni Vivere la Vita Festival
DESCRIPTION:
URL:https://controle.olaserragaucha.com.br/evento/2a-vieni-vivere-la-vita-festival/
LOCATION:Monte Belo do Sul – RS
ATTACH;FMTTYPE=image/jpeg:https://controle.olaserragaucha.com.br/wp-content/uploads/2019/11/Convite-Vieni-Vivere-la-Vita-Festival.jpg
END:VEVENT
BEGIN:VEVENT
DTSTART;TZID=America/Sao_Paulo:20191115T000100
DTEND;TZID=America/Sao_Paulo:20191115T234500
DTSTAMP:20260419T111404
CREATED:20191111T124949Z
LAST-MODIFIED:20191111T125556Z
UID:15822-1573776060-1573861500@controle.olaserragaucha.com.br
SUMMARY:Feriado: Dia da Proclamação da República
DESCRIPTION:15 de novembro é uma data importante no Brasil\, pois nesse dia comemora-se a Proclamação da República. Esse evento aconteceu em 1889 e foi resultado da mobilização do Exército e de republicanos civis contra a monarquia instalada no país desde 1822. A partir de um golpe\, a república foi instaurada no Brasil e a família real portuguesa foi expulsa. A Proclamação da República foi resultado de uma longa insatisfação dos militares com o governo monárquico. Os historiadores tratam esse acontecimento atualmente como um golpe por ter sido uma transição de regime forçada e sem a participação popular. Atualmente o 15 de novembro é considerado feriado nacional. \nO que causou a Proclamação da República?\nO marechal Deodoro da Fonseca foi um dos grandes nomes da Proclamação da República\, em 15 de novembro de 1889.\nO marechal Deodoro da Fonseca foi um dos grandes nomes da Proclamação da República\, em 15 de novembro de 1889.\nA Proclamação da República é resultado de um processo político que se estendeu desde a década de 1870. A insatisfação com a monarquia ganhou força ao final da Guerra do Paraguai\, tanto nos meios militares quantos nos civis. Essa insatisfação só foi crescendo\, e o surgimento de partidos republicanos contribuiu para isso. \nO grande grupo insatisfeito\, porém\, era o Exército brasileiro. As Forças Armadas consideravam-se pouco reconhecidas depois de terem conduzido todo o esforço da Guerra do Paraguai. Os militares estavam insatisfeitos com suas remunerações\, queriam melhorias no sistema de promoção de carreira e a permissão para opinar suas posições políticas\, algo proibido na época. Isso contribuiu para que o republicanismo fosse ventilado no seu interior. Não obstante\, a insatisfação com a monarquia não era uma exclusividade dos militares\, os cafeicultores paulistas e a Igreja Católica também estavam insatisfeitos. Ainda\, o enfraquecimento do regime monárquico no Brasil está diretamente relacionado com o avanço da pauta abolicionista. A relação era proporcional e inversa: na mesma medida em que o abolicionismo ganhava força\, o monarquismo perdia influência no país. Politicamente os debates foram acirrando-se ao longo da década de 1880\, tanto na questão da abolição quanto na do republicanismo. A situação do Brasil era de crise crônica na década de 1880\, e a polarização só contribuiu para reforçar esse quadro. \nCom a perda do apoio da Igreja e dos escravocratas\, a monarquia ficou sem os grandes grupos que lhe davam apoio\, sobretudo o segundo. Assim\, a sua sustentação tornou-se extremamente difícil\, uma vez que o movimento republicano estava muito forte no final da década de 1880. Na medida em que o republicanismo avançava\, uma nova pauta era ventilada: o federalismo. Essa pauta inspirava-se no federalismo que existia nos Estados Unidos e defendia maior descentralização do governo\, isto é\, os partidos republicanos agruparam-se regionalmente e passaram a defender maior autonomia para os estados. Em determinado momento\, pensou-se que a monarquia aplicaria uma certa descentralização\, mas isso não aconteceu. Outro fator de insatisfação com a monarquia dava-se em relação à economia. Depois da Guerra do Paraguai\, a economia brasileira enfraqueceu-se\, afinal o país gastou muito mais do que poderia para vencer os paraguaios. Ainda há de considerar-se os impactos da crise mundial do capitalismo de 1873\, que impactou pouco o Brasil\, mas teve no país seus reflexos. O último fator é a questão da sucessão\, pois\, até entre os monarquistas\, havia um certo incômodo com o fato de que os sucessores do trono eram a princesa Isabel e seu marido\, o Conde D’Eu. \nComo foi a Proclamação da República?\nA Proclamação da República foi mais feita na base do improviso do que\, de fato\, na base do planejamento. No entanto\, o historiador Boris Fausto sugere que\, desde 1887\, havia encontros que debatiam as possibilidades de derrubar a monarquia no Brasil. Em 1889\, existia um grupo formado por grandes nomes da época\, como Aristides Lobo\, Sólon Ribeiro\, Quintino Bocaiúva\, entre outros\, que tinha debates avançados sobre a derrubada do regime. Em novembro de 1889\, a crise política estava avançada\, principalmente porque já existia uma percepção de que o visconde de Ouro Preto não resolveria as grandes demandas daquele momento. Sendo assim\, grandes nomes do republicanismo da época reuniram-se secretamente com o marechal Deodoro da Fonseca\, um militar bastante influente na época\, para que ele aderisse ao movimento. Depois de ser convencido\, Deodoro da Fonseca liderou um levante militar\, em 15 de novembro\, que cercou o Gabinete Ministerial\, destituiu o visconde de Ouro Preto do cargo e prendeu-o. Ao longo daquele dia\, uma série de acontecimentos levaram à Proclamação da República\, oficialmente\, após anúncio feito por José do Patrocínio\, um vereador do Rio de Janeiro. Conde D’Eu tentou liderar uma resistência no dia 15\, e o imperador tentou formar um novo gabinete\, mas as ações não tiveram sucesso. A monarquia estava efetivamente derrubada\, d. Pedro II deixou de ser imperador do Brasil\, e um governo provisório republicano foi instaurado. No dia 17 de 1889\, a família real fugia do Brasil e partia rumo à Europa. \n15 de novembro é feriado nacional?\nAtualmente\, o 15 de novembro é considerado feriado nacional por força da legislação brasileira.\nAtualmente\, o 15 de novembro é considerado feriado nacional por força da legislação brasileira.\nTodo ano o 15 de novembro é considerado feriado nacional por determinação da legislação brasileira. Em 14 de janeiro de 1890\, foi emitida a primeira lei reconhecendo o dia como feriado. Essa lei foi o Decreto nº 155-B\, que determinou o feriado como um dia para celebrar a “pátria brasileira”. Essa ação\, no entanto\, foi uma de muitas para garantir legitimidade à recém-instaurada república no Brasil e garantir que o dia e o republicanismo ficassem impregnados no imaginário popular. Outras leis que reforçaram o 15 de novembro como feriado foram decretadas durante a Era Vargas e a Quarta República. Atualmente\, o dia em questão é considerado feriado por força de uma lei recente. Em 19 de dezembro de 2002\, durante o governo de Fernando Henrique Cardoso\, foi aprovada a Lei nº 10.607\, que cita todos os feriados nacionais do Brasil\, sendo o 15 de novembro um deles. \nRepublicanismo no Brasil atual\nPrimeiramente\, o status do Brasil é assegurado pela Constituição de 1988\, que assegura o nosso país como uma “república federativa”. Além disso\, na promulgação da Constituição foi estipulada uma disposição constitucional transitória a respeito de um plebiscito que deveria ser realizado em 7 de setembro de 1993 (e de fato foi realizado\, mas em 21 de abril de 1993). Esse plebiscito questionou a população a respeito da forma e sistema de governo que seriam adotados no Brasil. A população brasileira foi questionada sobre se o país seria uma república ou uma monarquia\, e a escolha popular (com 66% dos votos) determinou que o país seria uma república. \nPor Daniel Neves Silva / Graduado em História
URL:https://controle.olaserragaucha.com.br/evento/feriado-dia-da-proclamacao-da-republica/
END:VEVENT
BEGIN:VEVENT
DTSTART;TZID=America/Sao_Paulo:20191114T114500
DTEND;TZID=America/Sao_Paulo:20191114T131500
DTSTAMP:20260419T111404
CREATED:20191112T153510Z
LAST-MODIFIED:20191112T153557Z
UID:15871-1573731900-1573737300@controle.olaserragaucha.com.br
SUMMARY:Almoçando com a CICs com a Deputada Federal Fran Somensi
DESCRIPTION:
URL:https://controle.olaserragaucha.com.br/evento/almocando-com-a-cics-com-a-deputada-federal-fran-somensi/
LOCATION:Restaurante Parque dos Pinheiros – Farroupilha
ATTACH;FMTTYPE=image/png:https://controle.olaserragaucha.com.br/wp-content/uploads/2019/11/cics.png
END:VEVENT
BEGIN:VEVENT
DTSTART;TZID=America/Sao_Paulo:20191111T160000
DTEND;TZID=America/Sao_Paulo:20191111T230000
DTSTAMP:20260419T111404
CREATED:20191105T210932Z
LAST-MODIFIED:20191105T211005Z
UID:15734-1573488000-1573513200@controle.olaserragaucha.com.br
SUMMARY:10º Encontro da Gastronomia e Hotelaria e 4ª Feira de Negócios Região Uva e Vinho
DESCRIPTION:
URL:https://controle.olaserragaucha.com.br/evento/10o-encontro-da-gastronomia-e-hotelaria-e-4a-feira-de-negocios-regiao-uva-e-vinho/
LOCATION:Pavilhões da Festa da Uva – Caxias do Sul
END:VEVENT
BEGIN:VEVENT
DTSTART;TZID=America/Sao_Paulo:20191109T183000
DTEND;TZID=America/Sao_Paulo:20191109T233000
DTSTAMP:20260419T111404
CREATED:20191104T184531Z
LAST-MODIFIED:20191104T185138Z
UID:15708-1573324200-1573342200@controle.olaserragaucha.com.br
SUMMARY:Sparkling Night Run
DESCRIPTION:SERVIÇO:\nO quê: Sparkling Night Run 2019\nQuando: 09 de novembro\nOnde: Parque de Eventos de Bento Gonçalves (RS)\nProgramação: A categoria Kids inicia às 18h30. A caminhada às 19h e a corrida às 20h.\nModalidades: Corrida (5 km e 10 km); Caminhada (5 km) e Kids (50m a 500m\, conforme faixas etárias).
URL:https://controle.olaserragaucha.com.br/evento/sparkling-night-run-2/
LOCATION:Parque de Eventos de Bento Gonçalves
END:VEVENT
BEGIN:VEVENT
DTSTART;TZID=America/Sao_Paulo:20191108T200000
DTEND;TZID=America/Sao_Paulo:20191108T233000
DTSTAMP:20260419T111404
CREATED:20191104T132807Z
LAST-MODIFIED:20191104T193824Z
UID:15696-1573243200-1573255800@controle.olaserragaucha.com.br
SUMMARY:Garibaldi Vintage
DESCRIPTION:  \n 
URL:https://controle.olaserragaucha.com.br/evento/garibaldi-vintage-3/
LOCATION:Centro Histórico – Garibaldi
END:VEVENT
BEGIN:VEVENT
DTSTART;TZID=America/Sao_Paulo:20191108T193000
DTEND;TZID=America/Sao_Paulo:20191108T213000
DTSTAMP:20260419T111404
CREATED:20191031T133929Z
LAST-MODIFIED:20191031T133929Z
UID:15662-1573241400-1573248600@controle.olaserragaucha.com.br
SUMMARY:Abertura da 6ª FenaMassa
DESCRIPTION:
URL:https://controle.olaserragaucha.com.br/evento/abertura-da-6a-fenamassa/
LOCATION:Centro Histórico de Antônio Prado
ATTACH;FMTTYPE=image/jpeg:https://controle.olaserragaucha.com.br/wp-content/uploads/2019/10/abertura-fenamassa.jpg
END:VEVENT
BEGIN:VEVENT
DTSTART;TZID=America/Sao_Paulo:20191108T183000
DTEND;TZID=America/Sao_Paulo:20191108T213000
DTSTAMP:20260419T111404
CREATED:20191105T210853Z
LAST-MODIFIED:20191105T210853Z
UID:15731-1573237800-1573248600@controle.olaserragaucha.com.br
SUMMARY:Lançamento da 17ª Fenavinho e 30ª ExpoBento
DESCRIPTION:
URL:https://controle.olaserragaucha.com.br/evento/lancamento-da-17a-fenavinho-e-30a-expobento/
LOCATION:Stand Giordani Turismo – Festuris – Gramado
ATTACH;FMTTYPE=image/jpeg:https://controle.olaserragaucha.com.br/wp-content/uploads/2019/11/Lançamento-Fenavinho-e-Expobento-Festuris.jpg
END:VEVENT
BEGIN:VEVENT
DTSTART;TZID=America/Sao_Paulo:20191107T200000
DTEND;TZID=America/Sao_Paulo:20191107T220000
DTSTAMP:20260419T111404
CREATED:20191105T211348Z
LAST-MODIFIED:20191105T211540Z
UID:15736-1573156800-1573164000@controle.olaserragaucha.com.br
SUMMARY:Concerto Jóias Italianas do século XIX
DESCRIPTION:Concerto Jóias Italianas do século XIX com a Orquestra Sinfônica da UCS \nDia: 7 de novembro – 20h\nLocal: Anfiteatro “Ivo Antônio Da Rold” da Fundação Casa das Artes – Bento Gonçalves\nEntrada: 1 kg de alimento não perecível\, que será destinado à Secretaria de Habitação e Assistência Social de Bento Gonçalves
URL:https://controle.olaserragaucha.com.br/evento/concerto-joias-italianas-do-seculo-xix/
LOCATION:Fundação Casa das Artes – Bento Gonçalves
END:VEVENT
BEGIN:VEVENT
DTSTART;TZID=America/Sao_Paulo:20191107T193000
DTEND;TZID=America/Sao_Paulo:20191107T213000
DTSTAMP:20260419T111404
CREATED:20191105T205947Z
LAST-MODIFIED:20191105T210023Z
UID:15728-1573155000-1573162200@controle.olaserragaucha.com.br
SUMMARY:Lançamento do 1º Concurso das Melhores Cervejas de Caxias do Sul
DESCRIPTION:
URL:https://controle.olaserragaucha.com.br/evento/lancamento-do-1o-concurso-das-melhores-cervejas-de-caxias-do-sul/
LOCATION:Cervejaria Felsen (Avenida Rubem Bento Alves\, 2.817) Caxias do Sul
ATTACH;FMTTYPE=image/png:https://controle.olaserragaucha.com.br/wp-content/uploads/2019/11/Convite-Lançamento-Concurso-Cervejas.png
END:VEVENT
BEGIN:VEVENT
DTSTART;TZID=America/Sao_Paulo:20191107T163000
DTEND;TZID=America/Sao_Paulo:20191107T183000
DTSTAMP:20260419T111404
CREATED:20191105T205751Z
LAST-MODIFIED:20191105T205751Z
UID:15724-1573144200-1573151400@controle.olaserragaucha.com.br
SUMMARY:Inauguração da Vinícola Colonial de Vitório Somensi
DESCRIPTION:
URL:https://controle.olaserragaucha.com.br/evento/inauguracao-da-vinicola-colonial-de-vitorio-somensi/
LOCATION:Linha Zemith – Vale dos Vinhedos – Bento Gonçalves
END:VEVENT
BEGIN:VEVENT
DTSTART;TZID=America/Sao_Paulo:20191107T110000
DTEND;TZID=America/Sao_Paulo:20191107T120000
DTSTAMP:20260419T111404
CREATED:20191105T205833Z
LAST-MODIFIED:20191105T205833Z
UID:15726-1573124400-1573128000@controle.olaserragaucha.com.br
SUMMARY:Apresentação da Base Móvel Comunitária e ROCAM
DESCRIPTION:
URL:https://controle.olaserragaucha.com.br/evento/apresentacao-da-base-movel-comunitaria-e-rocam/
LOCATION:Via Del Vino – Bento Gonçalves
END:VEVENT
BEGIN:VEVENT
DTSTART;TZID=America/Sao_Paulo:20191106T080000
DTEND;TZID=America/Sao_Paulo:20191106T100000
DTSTAMP:20260419T111404
CREATED:20191031T134059Z
LAST-MODIFIED:20191031T134309Z
UID:15666-1573027200-1573034400@controle.olaserragaucha.com.br
SUMMARY:Palestra-Café com a Secretária de Estado da Cultura
DESCRIPTION:
URL:https://controle.olaserragaucha.com.br/evento/palestra-cafe-com-a-secretaria-de-estado-da-cultura/
LOCATION:Centro Empresarial – Bento Gonçalves
ATTACH;FMTTYPE=image/jpeg:https://controle.olaserragaucha.com.br/wp-content/uploads/2019/10/CIC-Palestra-Beatriz-Araújo-JOB-3904.jpg
END:VEVENT
BEGIN:VEVENT
DTSTART;TZID=America/Sao_Paulo:20191104T193000
DTEND;TZID=America/Sao_Paulo:20191104T213000
DTSTAMP:20260419T111404
CREATED:20191031T133730Z
LAST-MODIFIED:20191031T133730Z
UID:15659-1572895800-1572903000@controle.olaserragaucha.com.br
SUMMARY:Abertura da 28ª Feira do Livro de Carlos Barbosa
DESCRIPTION:  \n 
URL:https://controle.olaserragaucha.com.br/evento/abertura-da-28a-feira-do-livro-de-carlos-barbosa/
LOCATION:Rua Coberta – Carlos Barbosa
ATTACH;FMTTYPE=image/jpeg:https://controle.olaserragaucha.com.br/wp-content/uploads/2019/10/RP-Abertura-da-28º-Feira-do-Livro.jpg
END:VEVENT
BEGIN:VEVENT
DTSTART;TZID=America/Sao_Paulo:20191102T000000
DTEND;TZID=America/Sao_Paulo:20191102T233000
DTSTAMP:20260419T111404
CREATED:20191025T174536Z
LAST-MODIFIED:20191025T174549Z
UID:15571-1572652800-1572737400@controle.olaserragaucha.com.br
SUMMARY:Feriado Nacional Dia de Finados
DESCRIPTION:O Dia de Finados ou Dia dos Mortos é celebrado anualmente em 2 de novembro. No Brasil\, esta data é um feriado nacional.
URL:https://controle.olaserragaucha.com.br/evento/feriado-nacional-dia-de-finados/
ATTACH;FMTTYPE=image/jpeg:https://controle.olaserragaucha.com.br/wp-content/uploads/2019/10/02-de-novembro-2017-horario-das-lojas-de-ilhota-sc.jpg
END:VEVENT
BEGIN:VEVENT
DTSTART;TZID=America/Sao_Paulo:20191031T183000
DTEND;TZID=America/Sao_Paulo:20191031T203000
DTSTAMP:20260419T111404
CREATED:20191025T173624Z
LAST-MODIFIED:20191025T173728Z
UID:15568-1572546600-1572553800@controle.olaserragaucha.com.br
SUMMARY:Apresentação do presidente da 31ª Festiqueijo
DESCRIPTION:
URL:https://controle.olaserragaucha.com.br/evento/apresentacao-do-presidente-da-31a-festiqueijo/
LOCATION:Gabinete do Prefeito – Prefeitura de Carlos Barbosa
ATTACH;FMTTYPE=image/jpeg:https://controle.olaserragaucha.com.br/wp-content/uploads/2019/10/CONVITE-PRESIDENTE-FESTIQUEIJO.jpg
END:VEVENT
BEGIN:VEVENT
DTSTART;TZID=America/Sao_Paulo:20191029T163000
DTEND;TZID=America/Sao_Paulo:20191029T210000
DTSTAMP:20260419T111404
CREATED:20191021T134222Z
LAST-MODIFIED:20191021T134222Z
UID:15430-1572366600-1572382800@controle.olaserragaucha.com.br
SUMMARY:13º Fórum Municipal de Turismo
DESCRIPTION:
URL:https://controle.olaserragaucha.com.br/evento/13o-forum-municipal-de-turismo/
LOCATION:Laghetto Viverone Estação – Bento Gonçalves
ATTACH;FMTTYPE=image/jpeg:https://controle.olaserragaucha.com.br/wp-content/uploads/2019/10/d10118b5-2d6c-487a-a9a3-d88613eab528.jpg
END:VEVENT
BEGIN:VEVENT
DTSTART;TZID=America/Sao_Paulo:20191028T083000
DTEND;TZID=America/Sao_Paulo:20191028T183000
DTSTAMP:20260419T111404
CREATED:20191021T194509Z
LAST-MODIFIED:20191021T194552Z
UID:15444-1572251400-1572287400@controle.olaserragaucha.com.br
SUMMARY:Abertura do Festival de Interatividade e Comunicação - FIC
DESCRIPTION:Acesse a programação completa:\nhttps://fic19.com.br/programacao/?fbclid=IwAR1uiL9_tRLI0BKco0rorMwiN7HapoViW6tgFictAxXW-KeX9lQtWQ0Bnps 
URL:https://controle.olaserragaucha.com.br/evento/abertura-do-festival-de-interatividade-e-comunicacao-fic/
LOCATION:Unisinos – Porto Alegre
ATTACH;FMTTYPE=image/png:https://controle.olaserragaucha.com.br/wp-content/uploads/2019/10/large_beneficio20191011083217.png
END:VEVENT
BEGIN:VEVENT
DTSTART;TZID=America/Sao_Paulo:20191024T193000
DTEND;TZID=America/Sao_Paulo:20191024T233000
DTSTAMP:20260419T111404
CREATED:20191023T141742Z
LAST-MODIFIED:20191023T141838Z
UID:15516-1571945400-1571959800@controle.olaserragaucha.com.br
SUMMARY:Troféu Empreendedor Jovem Sindilojas
DESCRIPTION:  \n  \n  \n 
URL:https://controle.olaserragaucha.com.br/evento/trofeu-empreendedor-jovem-sindilojas/
LOCATION:Centro Empresarial Bento Gonçalves
END:VEVENT
BEGIN:VEVENT
DTSTART;TZID=America/Sao_Paulo:20191022T190000
DTEND;TZID=America/Sao_Paulo:20191022T233000
DTSTAMP:20260419T111404
CREATED:20191009T125801Z
LAST-MODIFIED:20191017T143932Z
UID:15133-1571770800-1571787000@controle.olaserragaucha.com.br
SUMMARY:Abertura do 25º Congresso Gaúcho de Rádio e Televisão
DESCRIPTION:
URL:https://controle.olaserragaucha.com.br/evento/abertura-do-25o-congresso-gaucho-de-radio-e-televisao/
ATTACH;FMTTYPE=image/png:https://controle.olaserragaucha.com.br/wp-content/uploads/2019/10/002a-717de9f874_fb9a408432095aca0ddeecc5d963033d.png
END:VEVENT
BEGIN:VEVENT
DTSTART;TZID=America/Sao_Paulo:20191021T113000
DTEND;TZID=America/Sao_Paulo:20191021T133000
DTSTAMP:20260419T111404
CREATED:20191017T202729Z
LAST-MODIFIED:20191017T202729Z
UID:15343-1571657400-1571664600@controle.olaserragaucha.com.br
SUMMARY:Reunião-almoço dos 65 anos da Soprano
DESCRIPTION:
URL:https://controle.olaserragaucha.com.br/evento/reuniao-almoco-dos-65-anos-da-soprano/
LOCATION:Restaurante SICA (junto ao CIC) – Caxias do Sul
ATTACH;FMTTYPE=image/jpeg:https://controle.olaserragaucha.com.br/wp-content/uploads/2019/10/Convite-Reunião-Almoço-em-Comemoração-aos-65-Anos-da-Soprano.jpeg
END:VEVENT
BEGIN:VEVENT
DTSTART;TZID=America/Sao_Paulo:20191019T190000
DTEND;TZID=America/Sao_Paulo:20191019T210000
DTSTAMP:20260419T111404
CREATED:20191009T121548Z
LAST-MODIFIED:20191009T121600Z
UID:15124-1571511600-1571518800@controle.olaserragaucha.com.br
SUMMARY:Escolha da Senhorita e Damas de Honra do Festiqueijo
DESCRIPTION:
URL:https://controle.olaserragaucha.com.br/evento/escolha-da-senhorita-e-damas-de-honra-do-festiqueijo/
LOCATION:Centro Municipal de Eventos – Carlos Barbosa
ATTACH;FMTTYPE=image/jpeg:https://controle.olaserragaucha.com.br/wp-content/uploads/2019/10/ESCOLHA-FESTIQUEIJO.jpg
END:VEVENT
BEGIN:VEVENT
DTSTART;TZID=America/Sao_Paulo:20191019T090000
DTEND;TZID=America/Sao_Paulo:20191019T113000
DTSTAMP:20260419T111404
CREATED:20191014T133303Z
LAST-MODIFIED:20191014T133345Z
UID:15240-1571475600-1571484600@controle.olaserragaucha.com.br
SUMMARY:Aniversário de 60 anos do IFRS Bento Gonçalves
DESCRIPTION:
URL:https://controle.olaserragaucha.com.br/evento/aniversario-de-60-anos-do-ifrs-bento-goncalves/
LOCATION:Campus IFRS – Bento Gonçalves
ATTACH;FMTTYPE=image/png:https://controle.olaserragaucha.com.br/wp-content/uploads/2019/10/IFRS.png
END:VEVENT
END:VCALENDAR