BEGIN:VCALENDAR
VERSION:2.0
PRODID:-//Olá, Serra Gaúcha! - ECPv6.3.5//NONSGML v1.0//EN
CALSCALE:GREGORIAN
METHOD:PUBLISH
X-WR-CALNAME:Olá, Serra Gaúcha!
X-ORIGINAL-URL:https://controle.olaserragaucha.com.br
X-WR-CALDESC:Eventos para Olá, Serra Gaúcha!
REFRESH-INTERVAL;VALUE=DURATION:PT1H
X-Robots-Tag:noindex
X-PUBLISHED-TTL:PT1H
BEGIN:VTIMEZONE
TZID:America/Sao_Paulo
BEGIN:STANDARD
TZOFFSETFROM:-0200
TZOFFSETTO:-0300
TZNAME:-03
DTSTART:20190217T020000
END:STANDARD
END:VTIMEZONE
BEGIN:VEVENT
DTSTART;TZID=America/Sao_Paulo:20190815T140000
DTEND;TZID=America/Sao_Paulo:20190816T080000
DTSTAMP:20260420T133316
CREATED:20190815T180238Z
LAST-MODIFIED:20190815T192730Z
UID:13894-1565877600-1565942400@controle.olaserragaucha.com.br
SUMMARY:3º Garibaldi Gastrô
DESCRIPTION:Garibaldi Gastrô – 3ª Edição\nUma programação imperdível espera os apreciadores da boa gastronomia na terceira edição do Garibaldi Gastrô\, em dois dias de programação com oficinas de gastronomia\, degustações guiadas de espumantes\, vinhos e azeites e um memorável jantar servido dentro dos vagões da Maria Fumaça e assinado por chefs de cozinha consagrados. \nProgramação \nhttps://garibaldigastro.eventize.com.br/index.php?pagina=3 
URL:https://controle.olaserragaucha.com.br/evento/3o-garibaldi-gastro/
LOCATION:Hotel Mosteiro São José (Garibaldi\, RS)
END:VEVENT
BEGIN:VEVENT
DTSTART;TZID=America/Sao_Paulo:20190814T200000
DTEND;TZID=America/Sao_Paulo:20190814T230000
DTSTAMP:20260420T133316
CREATED:20190810T124812Z
LAST-MODIFIED:20190810T124812Z
UID:13779-1565812800-1565823600@controle.olaserragaucha.com.br
SUMMARY:Abertura oficial da Convenção de Contabilidade
DESCRIPTION:
URL:https://controle.olaserragaucha.com.br/evento/abertura-oficial-da-convencao-de-contabilidade/
LOCATION:Parque de Eventos – Bento Gonçalves
ATTACH;FMTTYPE=image/jpeg:https://controle.olaserragaucha.com.br/wp-content/uploads/2019/08/slider_tranforma2-1.jpg
END:VEVENT
BEGIN:VEVENT
DTSTART;TZID=America/Sao_Paulo:20190810T193000
DTEND;TZID=America/Sao_Paulo:20190810T213000
DTSTAMP:20260420T133316
CREATED:20190801T142859Z
LAST-MODIFIED:20190801T142859Z
UID:13562-1565465400-1565472600@controle.olaserragaucha.com.br
SUMMARY:Festival Nacional do Vinho Colonial - edição Faria Lemos
DESCRIPTION:
URL:https://controle.olaserragaucha.com.br/evento/festival-nacional-do-vinho-colonial-edicao-faria-lemos/
LOCATION:Faria Lemos
ATTACH;FMTTYPE=image/jpeg:https://controle.olaserragaucha.com.br/wp-content/uploads/2019/08/Festival-Colonial.jpg
END:VEVENT
BEGIN:VEVENT
DTSTART;TZID=America/Sao_Paulo:20190809T200000
DTEND;TZID=America/Sao_Paulo:20190809T233000
DTSTAMP:20260420T133316
CREATED:20190802T192556Z
LAST-MODIFIED:20190802T192650Z
UID:13601-1565380800-1565393400@controle.olaserragaucha.com.br
SUMMARY:Wine Day Caitá - edição Bento Gonçalves
DESCRIPTION:
URL:https://controle.olaserragaucha.com.br/evento/wine-day-caita-edicao-bento-goncalves/
LOCATION:Dall Onder Grande Hotel – Bento Gonçalves
ATTACH;FMTTYPE=image/jpeg:https://controle.olaserragaucha.com.br/wp-content/uploads/2019/08/noticias.jpg
END:VEVENT
BEGIN:VEVENT
DTSTART;TZID=America/Sao_Paulo:20190809T153000
DTEND;TZID=America/Sao_Paulo:20190809T193000
DTSTAMP:20260420T133316
CREATED:20190801T143111Z
LAST-MODIFIED:20190801T143111Z
UID:13564-1565364600-1565379000@controle.olaserragaucha.com.br
SUMMARY:Posse e inauguração da nova sede do SINTRAFAR
DESCRIPTION:
URL:https://controle.olaserragaucha.com.br/evento/posse-e-inauguracao-da-nova-sede-do-sintrafar/
LOCATION:SINTRAFAR – Farroupilha
ATTACH;FMTTYPE=image/jpeg:https://controle.olaserragaucha.com.br/wp-content/uploads/2019/08/Sintrafar.jpeg
END:VEVENT
BEGIN:VEVENT
DTSTART;TZID=America/Sao_Paulo:20190808T193000
DTEND;TZID=America/Sao_Paulo:20190808T213000
DTSTAMP:20260420T133316
CREATED:20190806T204736Z
LAST-MODIFIED:20190806T204736Z
UID:13694-1565292600-1565299800@controle.olaserragaucha.com.br
SUMMARY:Aniversário da Clínica Visão Serra
DESCRIPTION:
URL:https://controle.olaserragaucha.com.br/evento/aniversario-da-clinica-visao-serra/
LOCATION:Clínica Visão Serra – Caxias do Sul
ATTACH;FMTTYPE=image/png:https://controle.olaserragaucha.com.br/wp-content/uploads/2019/08/VISÃO-3-anos-convite.png
END:VEVENT
BEGIN:VEVENT
DTSTART;TZID=America/Sao_Paulo:20190808T190000
DTEND;TZID=America/Sao_Paulo:20190808T210000
DTSTAMP:20260420T133316
CREATED:20190806T204939Z
LAST-MODIFIED:20190806T205144Z
UID:13697-1565290800-1565298000@controle.olaserragaucha.com.br
SUMMARY:Fórum Federasul
DESCRIPTION:  \n 
URL:https://controle.olaserragaucha.com.br/evento/forum-federasul/
LOCATION:Centro Empresarial (CIC) – Bento Gonçalves
ATTACH;FMTTYPE=image/jpeg:https://controle.olaserragaucha.com.br/wp-content/uploads/2019/08/FÓRUM-FEDERASUL.jpeg
END:VEVENT
BEGIN:VEVENT
DTSTART;TZID=America/Sao_Paulo:20190808T140000
DTEND;TZID=America/Sao_Paulo:20190808T220000
DTSTAMP:20260420T133316
CREATED:20190801T144545Z
LAST-MODIFIED:20190801T144545Z
UID:13569-1565272800-1565301600@controle.olaserragaucha.com.br
SUMMARY:Inauguração da nova loja e desfile da nova coleção da Namur Boutique
DESCRIPTION:
URL:https://controle.olaserragaucha.com.br/evento/inauguracao-da-nova-loja-e-desfile-da-nova-colecao-da-namur-boutique/
LOCATION:Namur Boutique – Caxias do Sul
ATTACH;FMTTYPE=image/jpeg:https://controle.olaserragaucha.com.br/wp-content/uploads/2019/08/NB.jpg
END:VEVENT
BEGIN:VEVENT
DTSTART;TZID=America/Sao_Paulo:20190808T100000
DTEND;TZID=America/Sao_Paulo:20190808T113000
DTSTAMP:20260420T133316
CREATED:20190802T113948Z
LAST-MODIFIED:20190806T134628Z
UID:13590-1565258400-1565263800@controle.olaserragaucha.com.br
SUMMARY:100 anos da Estação Férrea
DESCRIPTION:
URL:https://controle.olaserragaucha.com.br/evento/100-anos-da-estacao-ferrea-de-bento-goncalves/
LOCATION:Estação Férrea – Bento Gonçalves
ATTACH;FMTTYPE=image/png:https://controle.olaserragaucha.com.br/wp-content/uploads/2019/08/Convite-100anos-email.png
END:VEVENT
BEGIN:VEVENT
DTSTART;TZID=America/Sao_Paulo:20190808T080000
DTEND;TZID=America/Sao_Paulo:20190808T160000
DTSTAMP:20260420T133316
CREATED:20190801T143400Z
LAST-MODIFIED:20190801T143500Z
UID:13566-1565251200-1565280000@controle.olaserragaucha.com.br
SUMMARY:Fórum Estadual de Gestão Ambiental
DESCRIPTION:
URL:https://controle.olaserragaucha.com.br/evento/forum-estadual-de-gestao-ambiental/
LOCATION:Sindilojas – Farroupilha
ATTACH;FMTTYPE=image/jpeg:https://controle.olaserragaucha.com.br/wp-content/uploads/2019/08/Fórum.jpeg
END:VEVENT
BEGIN:VEVENT
DTSTART;TZID=America/Sao_Paulo:20190807T180000
DTEND;TZID=America/Sao_Paulo:20190807T200000
DTSTAMP:20260420T133316
CREATED:20190802T192151Z
LAST-MODIFIED:20190802T192222Z
UID:13599-1565200800-1565208000@controle.olaserragaucha.com.br
SUMMARY:Lançamento do Bento em Dança
DESCRIPTION:
URL:https://controle.olaserragaucha.com.br/evento/lancamento-do-bento-em-danca/
LOCATION:Centro Empresarial – Bento Gonçalves
ATTACH;FMTTYPE=image/jpeg:https://controle.olaserragaucha.com.br/wp-content/uploads/2019/08/BENTO-EM-DANÇA.jpg
END:VEVENT
BEGIN:VEVENT
DTSTART;TZID=America/Sao_Paulo:20190806T193000
DTEND;TZID=America/Sao_Paulo:20190806T213000
DTSTAMP:20260420T133316
CREATED:20190801T142658Z
LAST-MODIFIED:20190801T142658Z
UID:13560-1565119800-1565127000@controle.olaserragaucha.com.br
SUMMARY:Simpósio Fake News
DESCRIPTION:
URL:https://controle.olaserragaucha.com.br/evento/simposio-fake-news/
LOCATION:Faculdade Cenecista – Bento Gonçalves
ATTACH;FMTTYPE=image/jpeg:https://controle.olaserragaucha.com.br/wp-content/uploads/2019/08/Fake-news.jpg
END:VEVENT
BEGIN:VEVENT
DTSTART;TZID=America/Sao_Paulo:20190806T073000
DTEND;TZID=America/Sao_Paulo:20190806T150000
DTSTAMP:20260420T133316
CREATED:20190801T142528Z
LAST-MODIFIED:20190801T142547Z
UID:13553-1565076600-1565103600@controle.olaserragaucha.com.br
SUMMARY:29º Congresso Movergs
DESCRIPTION:
URL:https://controle.olaserragaucha.com.br/evento/29o-congresso-movergs/
LOCATION:Dall Onder Grande Hotel – Bento Gonçalves
ATTACH;FMTTYPE=image/jpeg:https://controle.olaserragaucha.com.br/wp-content/uploads/2019/08/congresso-movergs.jpg
END:VEVENT
BEGIN:VEVENT
DTSTART;TZID=America/Sao_Paulo:20190805T200000
DTEND;TZID=America/Sao_Paulo:20190805T220000
DTSTAMP:20260420T133316
CREATED:20190805T111233Z
LAST-MODIFIED:20190805T111841Z
UID:13605-1565035200-1565042400@controle.olaserragaucha.com.br
SUMMARY:Bate-Papo de Craque com D’Alessandro
DESCRIPTION:
URL:https://controle.olaserragaucha.com.br/evento/bate-papo-de-craque-com-dalessandro/
LOCATION:Fundação Casa das Artes – Bento Gonçalves
END:VEVENT
BEGIN:VEVENT
DTSTART;TZID=America/Sao_Paulo:20190803T210000
DTEND;TZID=America/Sao_Paulo:20190803T230000
DTSTAMP:20260420T133316
CREATED:20190722T191213Z
LAST-MODIFIED:20190722T191303Z
UID:13115-1564866000-1564873200@controle.olaserragaucha.com.br
SUMMARY:Jantar de 113 anos do Clube Aliança
DESCRIPTION:
URL:https://controle.olaserragaucha.com.br/evento/jantar-de-113-anos-do-clube-alianca/
LOCATION:Clube Aliança – Bento Gonçalves
ATTACH;FMTTYPE=image/jpeg:https://controle.olaserragaucha.com.br/wp-content/uploads/2019/07/convite-aniversário-do-clube-aliança.jpeg
END:VEVENT
BEGIN:VEVENT
DTSTART;TZID=America/Sao_Paulo:20190731T200000
DTEND;TZID=America/Sao_Paulo:20190731T220000
DTSTAMP:20260420T133316
CREATED:20190730T113737Z
LAST-MODIFIED:20190730T121158Z
UID:13480-1564603200-1564610400@controle.olaserragaucha.com.br
SUMMARY:Reinauguração do Santo Café
DESCRIPTION:
URL:https://controle.olaserragaucha.com.br/evento/reinauguracao-do-santa-cafe/
LOCATION:Santo Café (Assis Brasil) – Bento Gonçalves
ATTACH;FMTTYPE=image/jpeg:https://controle.olaserragaucha.com.br/wp-content/uploads/2019/07/REINAUGURAÇÃO-SANTA-CAFÉ.jpeg
END:VEVENT
BEGIN:VEVENT
DTSTART;TZID=America/Sao_Paulo:20190729T183000
DTEND;TZID=America/Sao_Paulo:20190729T203000
DTSTAMP:20260420T133316
CREATED:20190722T190942Z
LAST-MODIFIED:20190722T191000Z
UID:13107-1564425000-1564432200@controle.olaserragaucha.com.br
SUMMARY:5º Fórum de Economia Criativa
DESCRIPTION:
URL:https://controle.olaserragaucha.com.br/evento/5o-forum-de-economia-criativa/
LOCATION:Microempa – Caxias do Sul
ATTACH;FMTTYPE=image/png:https://controle.olaserragaucha.com.br/wp-content/uploads/2019/07/convite.png
END:VEVENT
BEGIN:VEVENT
DTSTART;TZID=America/Sao_Paulo:20190729T080000
DTEND;TZID=America/Sao_Paulo:20190729T100000
DTSTAMP:20260420T133316
CREATED:20190722T190806Z
LAST-MODIFIED:20190722T190806Z
UID:13101-1564387200-1564394400@controle.olaserragaucha.com.br
SUMMARY:Painel CIC-BG 105 anos: conquistas e desafios
DESCRIPTION:
URL:https://controle.olaserragaucha.com.br/evento/painel-cic-bg-105-anos-conquistas-e-desafios/
LOCATION:Centro Empresarial – Bento Gonçalves
ATTACH;FMTTYPE=image/jpeg:https://controle.olaserragaucha.com.br/wp-content/uploads/2019/07/PAINEL-CIC-BG.jpg
END:VEVENT
BEGIN:VEVENT
DTSTART;TZID=America/Sao_Paulo:20190726T190000
DTEND;TZID=America/Sao_Paulo:20190726T210000
DTSTAMP:20260420T133316
CREATED:20190715T123031Z
LAST-MODIFIED:20190715T123052Z
UID:12739-1564167600-1564174800@controle.olaserragaucha.com.br
SUMMARY:Inauguração da UNICRED - unidade Bento Gonçalves
DESCRIPTION:  \n 
URL:https://controle.olaserragaucha.com.br/evento/inauguracao-da-unicred-unidade-bento-goncalves/
LOCATION:Rua: Saldanha Marinho\, 700 – Centro – Bento Gonçalves
ATTACH;FMTTYPE=image/jpeg:https://controle.olaserragaucha.com.br/wp-content/uploads/2019/07/CONVITE-UNICRED.jpg
END:VEVENT
BEGIN:VEVENT
DTSTART;TZID=America/Sao_Paulo:20190725T190000
DTEND;TZID=America/Sao_Paulo:20190725T210000
DTSTAMP:20260420T133316
CREATED:20190715T123317Z
LAST-MODIFIED:20190715T123334Z
UID:12745-1564081200-1564088400@controle.olaserragaucha.com.br
SUMMARY:Atletas do Bem - edição Caxias do Sul
DESCRIPTION:
URL:https://controle.olaserragaucha.com.br/evento/atletas-do-bem-edicao-caxias-do-sul/
LOCATION:AABB – Caxias do Sul
ATTACH;FMTTYPE=image/jpeg:https://controle.olaserragaucha.com.br/wp-content/uploads/2019/07/CONVITE-ATLETAS-DO-BEM.jpeg
END:VEVENT
BEGIN:VEVENT
DTSTART;TZID=America/Sao_Paulo:20190718T190000
DTEND;TZID=America/Sao_Paulo:20190718T210000
DTSTAMP:20260420T133316
CREATED:20190716T181237Z
LAST-MODIFIED:20190716T181341Z
UID:12851-1563476400-1563483600@controle.olaserragaucha.com.br
SUMMARY:Talk Show Amplie seus Horizontes
DESCRIPTION:
URL:https://controle.olaserragaucha.com.br/evento/talk-show-amplie-seus-horizontes/
LOCATION:Sindilojas – Farroupilha
ATTACH;FMTTYPE=image/png:https://controle.olaserragaucha.com.br/wp-content/uploads/2019/07/painelistas.png
END:VEVENT
BEGIN:VEVENT
DTSTART;TZID=America/Sao_Paulo:20190716T190000
DTEND;TZID=America/Sao_Paulo:20190716T210000
DTSTAMP:20260420T133316
CREATED:20190715T123725Z
LAST-MODIFIED:20190715T124038Z
UID:12751-1563303600-1563310800@controle.olaserragaucha.com.br
SUMMARY:Aniversário de 20 anos do Canta Maria Gastronomia
DESCRIPTION:
URL:https://controle.olaserragaucha.com.br/evento/aniversario-de-20-anos-do-canta-maria-gastronomia/
LOCATION:Canta Maria Gastronomia – Bento Gonçalves
ATTACH;FMTTYPE=image/jpeg:https://controle.olaserragaucha.com.br/wp-content/uploads/2019/07/110.jpg
END:VEVENT
BEGIN:VEVENT
DTSTART;TZID=America/Sao_Paulo:20190714T153000
DTEND;TZID=America/Sao_Paulo:20190714T163000
DTSTAMP:20260420T133316
CREATED:20190708T123151Z
LAST-MODIFIED:20190708T123257Z
UID:12313-1563118200-1563121800@controle.olaserragaucha.com.br
SUMMARY:Lançamento do livro O Pacto de Juliano Furlanetto
DESCRIPTION:
URL:https://controle.olaserragaucha.com.br/evento/lancamento-do-livro-o-pacto-de-juliano-furlanetto/
LOCATION:Livraria Aquarela – Bento Gonçalves
ATTACH;FMTTYPE=image/jpeg:https://controle.olaserragaucha.com.br/wp-content/uploads/2019/07/o-pacto.jpg
END:VEVENT
BEGIN:VEVENT
DTSTART;TZID=America/Sao_Paulo:20190712T190000
DTEND;TZID=America/Sao_Paulo:20190712T210000
DTSTAMP:20260420T133316
CREATED:20190708T122543Z
LAST-MODIFIED:20190708T154806Z
UID:12307-1562958000-1562965200@controle.olaserragaucha.com.br
SUMMARY:Lançamento do Livro Uma Vida para Empreender de Aldo Cini
DESCRIPTION:
URL:https://controle.olaserragaucha.com.br/evento/lancamento-do-livro-uma-vida-da-empreender-de-aldo-cini/
LOCATION:Empresa Cinex – Bento Gonçalves
ATTACH;FMTTYPE=image/jpeg:https://controle.olaserragaucha.com.br/wp-content/uploads/2019/07/Aldo-Cini_Convite1.jpg
END:VEVENT
BEGIN:VEVENT
DTSTART;TZID=America/Sao_Paulo:20190712T083000
DTEND;TZID=America/Sao_Paulo:20190712T093000
DTSTAMP:20260420T133316
CREATED:20190708T122249Z
LAST-MODIFIED:20190708T154903Z
UID:12299-1562920200-1562923800@controle.olaserragaucha.com.br
SUMMARY:Café com a Imprensa UCS\CARVI
DESCRIPTION:
URL:https://controle.olaserragaucha.com.br/evento/cafe-com-a-imprensa-ucs-bento-goncalves/
LOCATION:UCS – Bloco CD – Bento Gonçalves
ATTACH;FMTTYPE=image/jpeg:https://controle.olaserragaucha.com.br/wp-content/uploads/2019/07/Convite_café-com-a-imprensa.jpg
END:VEVENT
BEGIN:VEVENT
DTSTART;TZID=America/Sao_Paulo:20190709T180000
DTEND;TZID=America/Sao_Paulo:20190709T200000
DTSTAMP:20260420T133316
CREATED:20190708T121914Z
LAST-MODIFIED:20190708T121930Z
UID:12293-1562695200-1562702400@controle.olaserragaucha.com.br
SUMMARY:Inauguração Guaraipo
DESCRIPTION:  \n 
URL:https://controle.olaserragaucha.com.br/evento/inauguracao-guaraipo/
LOCATION:Rua: Humberto de Alencar Castelo Branco\, 603 – Farroupilha
ATTACH;FMTTYPE=image/jpeg:https://controle.olaserragaucha.com.br/wp-content/uploads/2019/07/DIA.jpg
END:VEVENT
BEGIN:VEVENT
DTSTART;TZID=America/Sao_Paulo:20190708T193000
DTEND;TZID=America/Sao_Paulo:20190708T203000
DTSTAMP:20260420T133316
CREATED:20190708T121525Z
LAST-MODIFIED:20190708T121559Z
UID:12283-1562614200-1562617800@controle.olaserragaucha.com.br
SUMMARY:Inauguração do Urso Brownie
DESCRIPTION:
URL:https://controle.olaserragaucha.com.br/evento/inauguracao-do-urso-brownie/
LOCATION:Travessa São Caetano\, 25 – Bairro Botafogo – Bento Gonçalves
ATTACH;FMTTYPE=image/jpeg:https://controle.olaserragaucha.com.br/wp-content/uploads/2019/07/CONVITE_.jpg
END:VEVENT
BEGIN:VEVENT
DTSTART;TZID=America/Sao_Paulo:20190708T120000
DTEND;TZID=America/Sao_Paulo:20190708T130000
DTSTAMP:20260420T133316
CREATED:20190708T121234Z
LAST-MODIFIED:20190708T121710Z
UID:12279-1562587200-1562590800@controle.olaserragaucha.com.br
SUMMARY:Palestra-Almoço Cenário Econômico e Perspectivas
DESCRIPTION:
URL:https://controle.olaserragaucha.com.br/evento/palestra-almoco-cenario-economico-e-perspectivas/
LOCATION:Centro Empresarial – Bento Gonçalves
ATTACH;FMTTYPE=image/jpeg:https://controle.olaserragaucha.com.br/wp-content/uploads/2019/07/convite1.jpeg
END:VEVENT
BEGIN:VEVENT
DTSTART;TZID=America/Sao_Paulo:20190706T190000
DTEND;TZID=America/Sao_Paulo:20190706T230000
DTSTAMP:20260420T133316
CREATED:20190624T143503Z
LAST-MODIFIED:20190624T143517Z
UID:11729-1562439600-1562454000@controle.olaserragaucha.com.br
SUMMARY:2º Encontro Nacional de Confrarias do Vinho
DESCRIPTION:
URL:https://controle.olaserragaucha.com.br/evento/2o-encontro-nacional-de-confrarias-do-vinho/
LOCATION:Centro Empresarial – Bento Gonçalves
ATTACH;FMTTYPE=image/jpeg:https://controle.olaserragaucha.com.br/wp-content/uploads/2019/06/Evento-Encontro-I-Nacional-de-Confrarias-do-Vinho.jpg
END:VEVENT
BEGIN:VEVENT
DTSTART;TZID=America/Sao_Paulo:20190701T200000
DTEND;TZID=America/Sao_Paulo:20190701T230000
DTSTAMP:20260420T133316
CREATED:20190624T131708Z
LAST-MODIFIED:20190624T131722Z
UID:11717-1562011200-1562022000@controle.olaserragaucha.com.br
SUMMARY:Posse do presidente do Rotary Club de Farroupilha
DESCRIPTION:
URL:https://controle.olaserragaucha.com.br/evento/posse-do-presidente-do-rotary-club-de-farroupilha/
LOCATION:Restaurante Parque dos Pinheiros – Farroupilha
ATTACH;FMTTYPE=image/jpeg:https://controle.olaserragaucha.com.br/wp-content/uploads/2019/06/ROTARY.jpg
END:VEVENT
END:VCALENDAR