BEGIN:VCALENDAR
VERSION:2.0
PRODID:-//Olá, Serra Gaúcha! - ECPv6.3.5//NONSGML v1.0//EN
CALSCALE:GREGORIAN
METHOD:PUBLISH
X-WR-CALNAME:Olá, Serra Gaúcha!
X-ORIGINAL-URL:https://controle.olaserragaucha.com.br
X-WR-CALDESC:Eventos para Olá, Serra Gaúcha!
REFRESH-INTERVAL;VALUE=DURATION:PT1H
X-Robots-Tag:noindex
X-PUBLISHED-TTL:PT1H
BEGIN:VTIMEZONE
TZID:America/Sao_Paulo
BEGIN:STANDARD
TZOFFSETFROM:-0200
TZOFFSETTO:-0300
TZNAME:-03
DTSTART:20190217T020000
END:STANDARD
END:VTIMEZONE
BEGIN:VEVENT
DTSTART;TZID=America/Sao_Paulo:20190607T190000
DTEND;TZID=America/Sao_Paulo:20190607T220000
DTSTAMP:20260421T024237
CREATED:20190604T182544Z
LAST-MODIFIED:20190604T182935Z
UID:10725-1559934000-1559944800@controle.olaserragaucha.com.br
SUMMARY:Início da Suinofest
DESCRIPTION:
URL:https://controle.olaserragaucha.com.br/evento/inicio-da-suinofest/
LOCATION:Parque João Batista Marchese | Estrada dos Imigrantes\, 500 – Encantado
ATTACH;FMTTYPE=image/jpeg:https://controle.olaserragaucha.com.br/wp-content/uploads/2019/06/56490487_2328458600552089_3615884858573717504_n.jpg
END:VEVENT
BEGIN:VEVENT
DTSTART;TZID=America/Sao_Paulo:20190607T180000
DTEND;TZID=America/Sao_Paulo:20190607T200000
DTSTAMP:20260421T024237
CREATED:20190603T134145Z
LAST-MODIFIED:20190603T134653Z
UID:10599-1559930400-1559937600@controle.olaserragaucha.com.br
SUMMARY:Abertura do 6º Festival de Sabores da Colônia
DESCRIPTION:
URL:https://controle.olaserragaucha.com.br/evento/abertura-do-6o-festival-de-sabores-da-colonia/
LOCATION:Rua Coberta – Nova Petrópolis
ATTACH;FMTTYPE=image/png:https://controle.olaserragaucha.com.br/wp-content/uploads/2019/06/3887c571e580f45150e7e7d7c06d825d.png
END:VEVENT
BEGIN:VEVENT
DTSTART;TZID=America/Sao_Paulo:20190606T193000
DTEND;TZID=America/Sao_Paulo:20190606T213000
DTSTAMP:20260421T024237
CREATED:20190527T131542Z
LAST-MODIFIED:20190527T132143Z
UID:10195-1559849400-1559856600@controle.olaserragaucha.com.br
SUMMARY:Lançamento da Campanha Publicitária do 30º Festiqueijo
DESCRIPTION:
URL:https://controle.olaserragaucha.com.br/evento/lancamento-da-campanha-publicitaria-do-30o-festiqueijo/
LOCATION:Restaurante Solare – Praia de Belas – Porto Alegre
ATTACH;FMTTYPE=image/png:https://controle.olaserragaucha.com.br/wp-content/uploads/2019/05/2019_05_02_1556805094.png
END:VEVENT
BEGIN:VEVENT
DTSTART;TZID=America/Sao_Paulo:20190606T190000
DTEND;TZID=America/Sao_Paulo:20190606T233000
DTSTAMP:20260421T024237
CREATED:20190527T131818Z
LAST-MODIFIED:20190527T132050Z
UID:10203-1559847600-1559863800@controle.olaserragaucha.com.br
SUMMARY:Palestra com CEO da Calçados Beira Rio: Roberto Argenta
DESCRIPTION:
URL:https://controle.olaserragaucha.com.br/evento/palestra-com-ceo-da-calcados-beira-rio-roberto-argenta/
LOCATION:CIC – Garibaldi
ATTACH;FMTTYPE=image/png:https://controle.olaserragaucha.com.br/wp-content/uploads/2019/05/cic-garibaldi.png
END:VEVENT
BEGIN:VEVENT
DTSTART;TZID=America/Sao_Paulo:20190606T183000
DTEND;TZID=America/Sao_Paulo:20190606T203000
DTSTAMP:20260421T024237
CREATED:20190603T175730Z
LAST-MODIFIED:20190603T175816Z
UID:10627-1559845800-1559853000@controle.olaserragaucha.com.br
SUMMARY:Lançamento da 21ª edição do Jantar Eles na Cozinha
DESCRIPTION:
URL:https://controle.olaserragaucha.com.br/evento/lancamento-da-21a-edicao-do-jantar-eles-na-cozinha/
LOCATION:Dall Onder Grande Hotel – Bento Gonçalves
ATTACH;FMTTYPE=image/jpeg:https://controle.olaserragaucha.com.br/wp-content/uploads/2019/06/Convite-Lancamento.jpg
END:VEVENT
BEGIN:VEVENT
DTSTART;TZID=America/Sao_Paulo:20190606T180000
DTEND;TZID=America/Sao_Paulo:20190606T210000
DTSTAMP:20260421T024237
CREATED:20190604T184108Z
LAST-MODIFIED:20190604T184130Z
UID:10729-1559844000-1559854800@controle.olaserragaucha.com.br
SUMMARY:Inauguração do Padel Pro Santo Antão
DESCRIPTION:
URL:https://controle.olaserragaucha.com.br/evento/inauguracao-do-padel-pro-santo-antao/
LOCATION:Rua: Humberto Luigi Giacomello\, 215 – Bairro Santo Antão – Bento Gonçalves
ATTACH;FMTTYPE=image/jpeg:https://controle.olaserragaucha.com.br/wp-content/uploads/2019/06/convite.jpeg
END:VEVENT
BEGIN:VEVENT
DTSTART;TZID=America/Sao_Paulo:20190606T093000
DTEND;TZID=America/Sao_Paulo:20190606T113000
DTSTAMP:20260421T024237
CREATED:20190603T133725Z
LAST-MODIFIED:20190603T133725Z
UID:10591-1559813400-1559820600@controle.olaserragaucha.com.br
SUMMARY:Abertura do 4º Congresso Internacional de Turismo da Região Uva e Vinho
DESCRIPTION:
URL:https://controle.olaserragaucha.com.br/evento/abertura-do-4o-congresso-internacional-de-turismo-da-regiao-uva-e-vinho/
LOCATION:Flores da Cunha
ATTACH;FMTTYPE=image/jpeg:https://controle.olaserragaucha.com.br/wp-content/uploads/2019/06/Inscreva-se-em-bit.lyinscriçõesCongresso.jpg
END:VEVENT
BEGIN:VEVENT
DTSTART;TZID=America/Sao_Paulo:20190605T130000
DTEND;TZID=America/Sao_Paulo:20190605T200000
DTSTAMP:20260421T024237
CREATED:20190604T182131Z
LAST-MODIFIED:20190604T182131Z
UID:10721-1559739600-1559764800@controle.olaserragaucha.com.br
SUMMARY:Início da 21ª TranspoSul
DESCRIPTION:De 05 a 07 de junho
URL:https://controle.olaserragaucha.com.br/evento/inicio-da-21a-transposul/
LOCATION:Parque de Eventos – Bento Gonçalves
ATTACH;FMTTYPE=image/jpeg:https://controle.olaserragaucha.com.br/wp-content/uploads/2019/06/CARD-LOGISTICA.jpg
END:VEVENT
BEGIN:VEVENT
DTSTART;TZID=America/Sao_Paulo:20190601T110000
DTEND;TZID=America/Sao_Paulo:20190601T120000
DTSTAMP:20260421T024237
CREATED:20190527T110620Z
LAST-MODIFIED:20190527T110630Z
UID:10095-1559386800-1559390400@controle.olaserragaucha.com.br
SUMMARY:Reinauguração do Vinho Encanado na Via Del Vino
DESCRIPTION:  \n 
URL:https://controle.olaserragaucha.com.br/evento/reinauguracao-do-vinho-encanado-na-via-del-vino/
LOCATION:Via Del Vino – Bento Gonçalves
ATTACH;FMTTYPE=image/jpeg:https://controle.olaserragaucha.com.br/wp-content/uploads/2019/05/Convite-Vinho-Encanado1.jpg
END:VEVENT
BEGIN:VEVENT
DTSTART;TZID=America/Sao_Paulo:20190529T070000
DTEND;TZID=America/Sao_Paulo:20190529T190000
DTSTAMP:20260421T024237
CREATED:20190528T193424Z
LAST-MODIFIED:20190528T193436Z
UID:10293-1559113200-1559156400@controle.olaserragaucha.com.br
SUMMARY:Dia do Desafio
DESCRIPTION:Bento Gonçalves:\nLocal: Via Del Vino\n9h: Abertura +Aulas de Ritmos – Thaís Pegoraro\n10h: Pilates solo + Alongamentos – SESC\n11h: Aula de Muay Thai – Garra Team\n12h: Circuito Funcional – SESC\n12h30: GRIT + Power Jump – Academia Evolução Corporal\n14h: Aula de Jiu Jitsu – ACBJJ/ The King House\n15h: Aula de defesa pessoal – ACBJJ/ The King House\n16h: Aula de Capoeira – Abadá Capoeira\n17h: Danças Urbanas – Zeca Baldassari\n17h45: Encerramento \nCarlos Barbosa\nA concentração maior para o evento\, será no Parque da Estação\, a partir das 18h30\, sendo que às 19h\, a equipe do Km Livre fará um treino de 4km e 8km\, além de caminhada pela Ciclovia. \nFarroupilha\nA programação terá início às 7h da manhã e se estende até às 18h com atuação do SESC em empresas\, escolas e hospitais. Entre 8h30min e 17h será realizado um arrastão no comércio da cidade\, promovendo alongamentos e exercícios para os trabalhadores e para a população que estiver pelas ruas centrais da cidade. Às 14h\, haverá a Caminhada da Maturidade\, na Praça da Matriz\, seguida de alongamento para os participantes. Duas atividades estão marcadas para às 19h. Um GreNal envolvendo autoridades e personalidades de Farroupilha\, no ginásio do Colégio Cenecista de Farroupilha e um treino de corrida aberto na Av. Armando Antonello\, no bairro Imigrante. \nGaribaldi\nA contabilização dos participantes será no mesmo dia e quem quiser ter sua atividade incluída pode informar a SMEL na data. Mais informações podem ser obtidas pelo telefone (54) 3462-8269 ou pelo e-mail esportes@garibaldi.rs.gov.br.
URL:https://controle.olaserragaucha.com.br/evento/dia-do-desafio/
ATTACH;FMTTYPE=image/jpeg:https://controle.olaserragaucha.com.br/wp-content/uploads/2019/05/DIA-DO-DESAFIO.jpeg
END:VEVENT
BEGIN:VEVENT
DTSTART;TZID=America/Sao_Paulo:20190528T194500
DTEND;TZID=America/Sao_Paulo:20190528T214500
DTSTAMP:20260421T024237
CREATED:20190527T173406Z
LAST-MODIFIED:20190527T174639Z
UID:10229-1559072700-1559079900@controle.olaserragaucha.com.br
SUMMARY:14º Eles na Passarela - edição Bento Gonçalves
DESCRIPTION:
URL:https://controle.olaserragaucha.com.br/evento/14o-eles-na-passarela-edicao-bento-goncalves/
LOCATION:Centro Empresarial – Bento Gonçalves
ATTACH;FMTTYPE=image/jpeg:https://controle.olaserragaucha.com.br/wp-content/uploads/2019/05/IMG072.jpg
END:VEVENT
BEGIN:VEVENT
DTSTART;TZID=America/Sao_Paulo:20190526T070000
DTEND;TZID=America/Sao_Paulo:20190526T190000
DTSTAMP:20260421T024237
CREATED:20190520T133416Z
LAST-MODIFIED:20190520T133416Z
UID:9794-1558854000-1558897200@controle.olaserragaucha.com.br
SUMMARY:140ª Festa de Nossa Senhora de Caravaggio
DESCRIPTION:
URL:https://controle.olaserragaucha.com.br/evento/140a-festa-de-nossa-senhora-de-caravaggio/
LOCATION:Santuário de Caravaggio\, em Farroupilha – RS
ATTACH;FMTTYPE=image/jpeg:https://controle.olaserragaucha.com.br/wp-content/uploads/2019/05/140-Romaria-cartaz-fundo.jpg
END:VEVENT
BEGIN:VEVENT
DTSTART;TZID=America/Sao_Paulo:20190525T190000
DTEND;TZID=America/Sao_Paulo:20190526T120000
DTSTAMP:20260421T024237
CREATED:20190521T144601Z
LAST-MODIFIED:20190521T203420Z
UID:9879-1558810800-1558872000@controle.olaserragaucha.com.br
SUMMARY:33º Festival Colonial Italiano
DESCRIPTION:
URL:https://controle.olaserragaucha.com.br/evento/33a-edicao-do-festival-colonial-italiano/
ATTACH;FMTTYPE=image/jpeg:https://controle.olaserragaucha.com.br/wp-content/uploads/2019/05/Gastronomia-Créditos-Jean-Teixiera.jpg
END:VEVENT
BEGIN:VEVENT
DTSTART;TZID=America/Sao_Paulo:20190524T190000
DTEND;TZID=America/Sao_Paulo:20190524T210000
DTSTAMP:20260421T024237
CREATED:20190520T132917Z
LAST-MODIFIED:20190520T132917Z
UID:9788-1558724400-1558731600@controle.olaserragaucha.com.br
SUMMARY:Apresentação do Fundo Social Sicredi Pioneira RS
DESCRIPTION:
URL:https://controle.olaserragaucha.com.br/evento/apresentacao-do-fundo-social-sicredi-pioneira-rs/
LOCATION:CIC – Caxias do Sul
ATTACH;FMTTYPE=image/jpeg:https://controle.olaserragaucha.com.br/wp-content/uploads/2019/05/Convite-Sicredi.jpeg
END:VEVENT
BEGIN:VEVENT
DTSTART;TZID=America/Sao_Paulo:20190519T110000
DTEND;TZID=America/Sao_Paulo:20190519T180000
DTSTAMP:20260421T024237
CREATED:20190513T114240Z
LAST-MODIFIED:20190513T114330Z
UID:9463-1558263600-1558288800@controle.olaserragaucha.com.br
SUMMARY:Festival de Vinhos e Assados
DESCRIPTION:
URL:https://controle.olaserragaucha.com.br/evento/festival-de-vinhos-e-assados/
LOCATION:Jardins da Vinícola Aurora – Pinto Bandeira
ATTACH;FMTTYPE=image/jpeg:https://controle.olaserragaucha.com.br/wp-content/uploads/2019/05/WhatsApp-Image-2019-05-07-at-12.35.07.jpeg
END:VEVENT
BEGIN:VEVENT
DTSTART;TZID=America/Sao_Paulo:20190518T100000
DTEND;TZID=America/Sao_Paulo:20190518T220000
DTSTAMP:20260421T024237
CREATED:20190513T191300Z
LAST-MODIFIED:20190513T191612Z
UID:9523-1558173600-1558216800@controle.olaserragaucha.com.br
SUMMARY:Início do 10º Polentaço e 8ª Festa do Agricultor
DESCRIPTION:
URL:https://controle.olaserragaucha.com.br/evento/inicio-do-10o-polentaco-e-8a-festa-do-agricultor/
LOCATION:Monte Belo do Sul – RS
ATTACH;FMTTYPE=image/jpeg:https://controle.olaserragaucha.com.br/wp-content/uploads/2019/05/57449601_580490082433354_8659284814748188672_n.jpg
END:VEVENT
BEGIN:VEVENT
DTSTART;TZID=America/Sao_Paulo:20190515T090000
DTEND;TZID=America/Sao_Paulo:20190515T110000
DTSTAMP:20260421T024237
CREATED:20190513T113830Z
LAST-MODIFIED:20190513T114733Z
UID:9457-1557910800-1557918000@controle.olaserragaucha.com.br
SUMMARY:Início da 5ª Feira do Livro Infantil
DESCRIPTION:
URL:https://controle.olaserragaucha.com.br/evento/abertura-da-5a-feira-do-livro-infantil/
LOCATION:Via Del Vino – Bento Gonçalves
ATTACH;FMTTYPE=image/jpeg:https://controle.olaserragaucha.com.br/wp-content/uploads/2019/05/Convite-5ª-Feira-do-Livro-Infantil-Sesc_abertura.jpg
END:VEVENT
BEGIN:VEVENT
DTSTART;TZID=America/Sao_Paulo:20190512T000000
DTEND;TZID=America/Sao_Paulo:20190512T233000
DTSTAMP:20260421T024237
CREATED:20190506T125345Z
LAST-MODIFIED:20190506T125441Z
UID:9009-1557619200-1557703800@controle.olaserragaucha.com.br
SUMMARY:Dia das Mães
DESCRIPTION:Dia das Mães (Brasil) ou Dia da Mãe (Portugal) é uma data comemorativa que homenageia anualmente a figura familiar materna (mãe) e a maternidade. A data de comemoração varia de acordo com o país. Em Portugal é comemorado no primeiro domingo do mês de Maio e no Brasil no segundo domingo do mês de maio. \n  \n 
URL:https://controle.olaserragaucha.com.br/evento/dia-das-maes/
ATTACH;FMTTYPE=image/png:https://controle.olaserragaucha.com.br/wp-content/uploads/2019/05/FELIZ-DIA-DAS-MÃES.png
END:VEVENT
BEGIN:VEVENT
DTSTART;TZID=America/Sao_Paulo:20190509T193000
DTEND;TZID=America/Sao_Paulo:20190509T213000
DTSTAMP:20260421T024237
CREATED:20190506T124945Z
LAST-MODIFIED:20190506T130929Z
UID:9003-1557430200-1557437400@controle.olaserragaucha.com.br
SUMMARY:Troca de cartões Sindilojas Jovem
DESCRIPTION:
URL:https://controle.olaserragaucha.com.br/evento/troca-de-cartoes-sindilojas-jovem-bento-goncalves/
LOCATION:Vinícola Lovara – Bento Gonçalves
ATTACH;FMTTYPE=image/jpeg:https://controle.olaserragaucha.com.br/wp-content/uploads/2019/05/troca-de-cartões-sindilojas.jpeg
END:VEVENT
BEGIN:VEVENT
DTSTART;TZID=America/Sao_Paulo:20190504T150000
DTEND;TZID=America/Sao_Paulo:20190504T170000
DTSTAMP:20260421T024237
CREATED:20190424T165820Z
LAST-MODIFIED:20190424T165820Z
UID:8516-1556982000-1556989200@controle.olaserragaucha.com.br
SUMMARY:Lançamento dos Caminhos de Caravaggio
DESCRIPTION:
URL:https://controle.olaserragaucha.com.br/evento/lancamento-dos-caminhos-de-caravaggio/
LOCATION:Auditório do Santuário de Nossa Senhora de Caravaggio – Farroupilha
ATTACH;FMTTYPE=image/jpeg:https://controle.olaserragaucha.com.br/wp-content/uploads/2019/04/134a-romaria-de-caravaggio-imagem-vanessa-bruinsma-2.jpg
END:VEVENT
BEGIN:VEVENT
DTSTART;TZID=America/Sao_Paulo:20190501T140000
DTEND;TZID=America/Sao_Paulo:20190501T190000
DTSTAMP:20260421T024237
CREATED:20190424T171140Z
LAST-MODIFIED:20190424T171140Z
UID:8518-1556719200-1556737200@controle.olaserragaucha.com.br
SUMMARY:Dia do Trabalhador - Feriado
DESCRIPTION:Festa do Trabalhador – em Bento Gonçalves \nDia 01.05 – quarta – 14h – na ABCTG \nAtrações: Luiza Barbosa (The Voice Kids)\, Champion\, Modello\, Alegria e Marcas do Pampa. \nEntrada e estacionamento gratuito. \n  \nFesta do Trabalhador – em Caxias do Sul \nDia 01.05 – quarta – 14h – nos Pavilhões da Festa da Uva \nAtrações: Gabriel Valin\, Musical JM\, Banda Reencontro\, Negão e Banda\, Sétimo Sentido\, Sandro Coelho\, Grupo Arrastão e Barbarella. \nEntrada e estacionamento gratuito. \n  \nPromoção: Rádio Viva FM\, Rádio Amizade e Rádio Serrana FM.
URL:https://controle.olaserragaucha.com.br/evento/dia-do-trabalhador-feriado/
ATTACH;FMTTYPE=image/jpeg:https://controle.olaserragaucha.com.br/wp-content/uploads/2019/04/diadotrabalhardor-blumenau.jpg
END:VEVENT
BEGIN:VEVENT
DTSTART;TZID=America/Sao_Paulo:20190430T190000
DTEND;TZID=America/Sao_Paulo:20190430T210000
DTSTAMP:20260421T024237
CREATED:20190424T165622Z
LAST-MODIFIED:20190424T165622Z
UID:8513-1556650800-1556658000@controle.olaserragaucha.com.br
SUMMARY:Lançamento do Dia do Vinho Brasileiro
DESCRIPTION:
URL:https://controle.olaserragaucha.com.br/evento/lancamento-do-dia-do-vinho-brasileiro/
LOCATION:Praça Padre José Ferlin (em frente à Igreja Matriz São Francisco de Assis) – Monte Belo do Sul
ATTACH;FMTTYPE=image/png:https://controle.olaserragaucha.com.br/wp-content/uploads/2019/04/institucional.png
END:VEVENT
BEGIN:VEVENT
DTSTART;TZID=America/Sao_Paulo:20190429T190000
DTEND;TZID=America/Sao_Paulo:20190429T210000
DTSTAMP:20260421T024237
CREATED:20190424T165252Z
LAST-MODIFIED:20190424T165252Z
UID:8508-1556564400-1556571600@controle.olaserragaucha.com.br
SUMMARY:Case de Sucesso com Fabiano Feltrin
DESCRIPTION:
URL:https://controle.olaserragaucha.com.br/evento/case-de-sucesso-com-fabiano-feltrin/
LOCATION:Sesc – Bento Gonçalves
ATTACH;FMTTYPE=image/jpeg:https://controle.olaserragaucha.com.br/wp-content/uploads/2019/04/sindilojas.jpeg
END:VEVENT
BEGIN:VEVENT
DTSTART;TZID=America/Sao_Paulo:20190427T150000
DTEND;TZID=America/Sao_Paulo:20190427T170000
DTSTAMP:20260421T024237
CREATED:20190423T195625Z
LAST-MODIFIED:20190423T195638Z
UID:8469-1556377200-1556384400@controle.olaserragaucha.com.br
SUMMARY:Encontro Público: A importância do Esporte e do Lazer
DESCRIPTION:
URL:https://controle.olaserragaucha.com.br/evento/encontro-publico-a-importancia-do-esporte-e-do-lazer/
LOCATION:Muinho Club – Farroupilha
ATTACH;FMTTYPE=image/jpeg:https://controle.olaserragaucha.com.br/wp-content/uploads/2019/04/FARROUPILHA-2040.jpeg
END:VEVENT
BEGIN:VEVENT
DTSTART;TZID=America/Sao_Paulo:20190426T140000
DTEND;TZID=America/Sao_Paulo:20190426T173000
DTSTAMP:20260421T024237
CREATED:20190422T203647Z
LAST-MODIFIED:20190422T203647Z
UID:8397-1556287200-1556299800@controle.olaserragaucha.com.br
SUMMARY:Fórum de Infraestrutura e Posse da AMESNE
DESCRIPTION:
URL:https://controle.olaserragaucha.com.br/evento/forum-de-infraestrutura-e-posse-da-amesne/
LOCATION:Centro Empresarial – Bento Gonçalves
ATTACH;FMTTYPE=image/jpeg:https://controle.olaserragaucha.com.br/wp-content/uploads/2019/04/JS5-2020-810x540.jpg
END:VEVENT
BEGIN:VEVENT
DTSTART;TZID=America/Sao_Paulo:20190425T193000
DTEND;TZID=America/Sao_Paulo:20190425T203000
DTSTAMP:20260421T024237
CREATED:20190422T203308Z
LAST-MODIFIED:20190422T203308Z
UID:8393-1556220600-1556224200@controle.olaserragaucha.com.br
SUMMARY:Palestra Jantar com o Presidente do Grêmio
DESCRIPTION:
URL:https://controle.olaserragaucha.com.br/evento/palestra-jantar-com-o-presidente-do-gremio/
LOCATION:Centro Empresarial – Bento Gonçalves
ATTACH;FMTTYPE=image/jpeg:https://controle.olaserragaucha.com.br/wp-content/uploads/2019/04/romildo1.jpg
END:VEVENT
BEGIN:VEVENT
DTSTART;TZID=America/Sao_Paulo:20190425T063000
DTEND;TZID=America/Sao_Paulo:20190425T083000
DTSTAMP:20260421T024237
CREATED:20190422T203055Z
LAST-MODIFIED:20190422T204205Z
UID:8389-1556173800-1556181000@controle.olaserragaucha.com.br
SUMMARY:Inauguração do Stok Center
DESCRIPTION:
URL:https://controle.olaserragaucha.com.br/evento/inauguracao-do-stok-center-caxias-do-sul/
LOCATION:RSC 453 – 4363 – Bairro Cidade Nova – Caxias do Sul
ATTACH;FMTTYPE=image/jpeg:https://controle.olaserragaucha.com.br/wp-content/uploads/2019/04/STOK-CENTER-FOTO-ILUSTRATIVA.jpg
END:VEVENT
BEGIN:VEVENT
DTSTART;TZID=America/Sao_Paulo:20190423T200000
DTEND;TZID=America/Sao_Paulo:20190423T230000
DTSTAMP:20260421T024237
CREATED:20190405T180232Z
LAST-MODIFIED:20190405T180753Z
UID:7720-1556049600-1556060400@controle.olaserragaucha.com.br
SUMMARY:Premiação Ranking Agas
DESCRIPTION:
URL:https://controle.olaserragaucha.com.br/evento/ranking-agas/
LOCATION:Grêmio Náutico União – Porto Alegre
ATTACH;FMTTYPE=image/jpeg:https://controle.olaserragaucha.com.br/wp-content/uploads/2019/04/ranking2903.jpg
END:VEVENT
BEGIN:VEVENT
DTSTART;TZID=America/Sao_Paulo:20190421T003000
DTEND;TZID=America/Sao_Paulo:20190421T233000
DTSTAMP:20260421T024237
CREATED:20190408T124956Z
LAST-MODIFIED:20190408T125032Z
UID:7801-1555806600-1555889400@controle.olaserragaucha.com.br
SUMMARY:Páscoa
DESCRIPTION:Páscoa ou Domingo da Ressurreição é uma festividade religiosa e um feriado que celebra a ressurreição de Jesus ocorrida três dias depois da sua crucificação no Calvário\, conforme o relato do Novo Testamento. \nÉ a principal celebração do ano litúrgico cristão e também a mais antiga e importante festa cristã. A data da Páscoa determina todas as demais datas das festas móveis cristãs\, exceto as relacionadas ao Advento. O domingo de Páscoa marca o ápice da Paixão de Cristo e é precedido pela Quaresma\, um período de quarenta dias de jejum\, orações e penitências. \nO termo “Páscoa” deriva\, através do latim Pascha e do grego bíblico Πάσχα Paskha\, do hebraico פֶּסַח (Pesaḥ ou Pesach)\, a Páscoa judaica.
URL:https://controle.olaserragaucha.com.br/evento/pascoa/
ATTACH;FMTTYPE=image/jpeg:https://controle.olaserragaucha.com.br/wp-content/uploads/2019/04/empty_tomb.jpg
END:VEVENT
BEGIN:VEVENT
DTSTART;TZID=America/Sao_Paulo:20190419T003000
DTEND;TZID=America/Sao_Paulo:20190419T233000
DTSTAMP:20260421T024237
CREATED:20190408T124503Z
LAST-MODIFIED:20190418T124451Z
UID:7799-1555633800-1555716600@controle.olaserragaucha.com.br
SUMMARY:Sexta Feira Santa - Feriado
DESCRIPTION:Sexta-feira Santa ou Sexta-Feira da Paixão é uma data religiosa cristã que relembra a crucificação de Jesus Cristo e sua morte no Calvário. O feriado é observado sempre na sexta-feira que antecede o Domingo de Páscoa\, o sexto dia da Semana Santa no cristianismo ocidental e o sétimo no cristianismo oriental (que conta também o Sábado de Lázaro\, anterior ao Domingo de Ramos). É o primeiro dia (que começa na noite da celebração da Missa da Ceia do Senhor) do Tríduo Pascal e pode coincidir com a data da Páscoa judaica. \nEste dia é considerado um feriado nacional em muitos países pelo mundo todo e em grande parte do ocidente\, especialmente as nações de maioria cristã. \nEncenação da Paixão de Cristo nas cidades: \nBento Gonçalves: \nMorro da Cruz  / Salgado – 18h – Inicia na Igreja São Pedro – Salgado. \nMorro da Antena / Vale dos Vinhedos – 19h –  Inicia na Gruta de Nossa Senhora de Lourdes\, na comunidade Ceará. \nFarroupilha \nIgreja Matriz Sagrado Coração de Jesus – 15h \nCarlos Barbosa \nIgreja Matriz – 15h30min. \nFlores da Cunha \nIgreja Matriz Nossa Senhora de Lourdes – 18h. \nGaribaldi \nIgreja Matriz São Pedro – 16h30min \nSão Marcos \nIgreja Matriz – 15h. Após\, haverá procissão até o Monte Calvário. \n 
URL:https://controle.olaserragaucha.com.br/evento/sexta-feira-santa-feriado/
ATTACH;FMTTYPE=image/jpeg:https://controle.olaserragaucha.com.br/wp-content/uploads/2019/04/mensagem-Sexta-Feira-Santa.jpg
END:VEVENT
END:VCALENDAR