BEGIN:VCALENDAR
VERSION:2.0
PRODID:-//Olá, Serra Gaúcha! - ECPv6.3.5//NONSGML v1.0//EN
CALSCALE:GREGORIAN
METHOD:PUBLISH
X-ORIGINAL-URL:https://controle.olaserragaucha.com.br
X-WR-CALDESC:Eventos para Olá, Serra Gaúcha!
REFRESH-INTERVAL;VALUE=DURATION:PT1H
X-Robots-Tag:noindex
X-PUBLISHED-TTL:PT1H
BEGIN:VTIMEZONE
TZID:America/Sao_Paulo
BEGIN:STANDARD
TZOFFSETFROM:-0200
TZOFFSETTO:-0300
TZNAME:-03
DTSTART:20180218T020000
END:STANDARD
BEGIN:DAYLIGHT
TZOFFSETFROM:-0300
TZOFFSETTO:-0200
TZNAME:-02
DTSTART:20181104T030000
END:DAYLIGHT
BEGIN:STANDARD
TZOFFSETFROM:-0200
TZOFFSETTO:-0300
TZNAME:-03
DTSTART:20190217T020000
END:STANDARD
END:VTIMEZONE
BEGIN:VEVENT
DTSTART;TZID=America/Sao_Paulo:20190212T193000
DTEND;TZID=America/Sao_Paulo:20190212T233000
DTSTAMP:20260421T202959
CREATED:20190208T125555Z
LAST-MODIFIED:20190208T125555Z
UID:5106-1549999800-1550014200@controle.olaserragaucha.com.br
SUMMARY:15 anos do Blue Tree Towers
DESCRIPTION:
URL:https://controle.olaserragaucha.com.br/evento/15-anos-do-blue-tree-towers/
LOCATION:Blue Tree Towers – Caxias do Sul
ATTACH;FMTTYPE=image/jpeg:https://controle.olaserragaucha.com.br/wp-content/uploads/2019/02/Convite-Blue-Tree.jpeg
END:VEVENT
BEGIN:VEVENT
DTSTART;TZID=America/Sao_Paulo:20190210T130000
DTEND;TZID=America/Sao_Paulo:20190210T210000
DTSTAMP:20260421T202959
CREATED:20190201T112212Z
LAST-MODIFIED:20190201T172727Z
UID:4841-1549803600-1549832400@controle.olaserragaucha.com.br
SUMMARY:Ceva Music Festival com Cachorro Grande
DESCRIPTION:Ceva Music festival apresenta show de despedida da banda CACHORRO GRANDE que se despede dos palcos no primeiro semestre de 2019! \nPara esta edição teremos uma estrutura ainda melhor que nossa primeira edição no morro da antena. Teremos 13 cervejarias artesanais\, 07 bandas\, food trucks\, espaço kids e seu cãozinho é sempre bem vindo! Convide os amigos\, a família e venha curtir conosco o pôr do sol na Fundaparque! \nIngressos Duplos:\nR$ 40 (online) \n1º Lote:\nR$ 25 \n2º Lote:\nR$ 30 \nCadastro de cervejarias e food trucks\, enviar material por email\, discriminar no assunto Cervejaria/ Foodtruck : cevamusicfestival@gmail.com \n– Estacionamento Gratuito – 
URL:https://controle.olaserragaucha.com.br/evento/ceva-music-festival-com-cachorro-grande/
LOCATION:Parque de Eventos – Bento Gonçalves
ATTACH;FMTTYPE=image/jpeg:https://controle.olaserragaucha.com.br/wp-content/uploads/2019/02/cachorro-grande.jpg
END:VEVENT
BEGIN:VEVENT
DTSTART;TZID=America/Sao_Paulo:20190208T150000
DTEND;TZID=America/Sao_Paulo:20190208T170000
DTSTAMP:20260421T202959
CREATED:20190207T163851Z
LAST-MODIFIED:20190207T163851Z
UID:5048-1549638000-1549645200@controle.olaserragaucha.com.br
SUMMARY:Lançamento da BRS Melodia
DESCRIPTION:
URL:https://controle.olaserragaucha.com.br/evento/lancamento-da-brs-melodia/
LOCATION:Embrapa – Bento Gonçalves
ATTACH;FMTTYPE=image/jpeg:https://controle.olaserragaucha.com.br/wp-content/uploads/2019/02/Convite-Lançamento-BRS-Melodia.jpg
END:VEVENT
BEGIN:VEVENT
DTSTART;TZID=America/Sao_Paulo:20190203T170000
DTEND;TZID=America/Sao_Paulo:20190203T210000
DTSTAMP:20260421T202959
CREATED:20190129T110902Z
LAST-MODIFIED:20190129T110902Z
UID:4776-1549213200-1549227600@controle.olaserragaucha.com.br
SUMMARY:Prêmio Natal nos Bairros
DESCRIPTION:SERVIÇO \nO que: Prêmio Natal nos Bairros \nQuando: 3 de fevereiro de 2019 (domingo) \nHorário: das 17h às 21h \nOnde: Salão da Comunidade do Bairro São João (Rua João Fedrigo) \nAtrações: música ao vivo\, food trucks\, mateada\, brinquedos infláveis \nRealização: Sindilojas Regional Bento\, Secretaria de Turismo e Secretaria da Cultura \nApoio: Senac\, SESC e Grupo RSCOM
URL:https://controle.olaserragaucha.com.br/evento/premio-natal-nos-bairros/
LOCATION:Salão da Comunidade do Bairro São João – Bento Gonçalves
END:VEVENT
BEGIN:VEVENT
DTSTART;TZID=America/Sao_Paulo:20190202T103000
DTEND;TZID=America/Sao_Paulo:20190202T123000
DTSTAMP:20260421T202959
CREATED:20190124T112018Z
LAST-MODIFIED:20190124T112135Z
UID:4671-1549103400-1549110600@controle.olaserragaucha.com.br
SUMMARY:Abertura da 46ª Festa do Figo
DESCRIPTION:
URL:https://controle.olaserragaucha.com.br/evento/abertura-da-46a-festa-do-figo/
LOCATION:Linha Araripe – Nova Petrópolis
ATTACH;FMTTYPE=image/jpeg:https://controle.olaserragaucha.com.br/wp-content/uploads/2019/01/Festa-do-Figo.jpg
END:VEVENT
BEGIN:VEVENT
DTSTART;TZID=America/Sao_Paulo:20190129T193000
DTEND;TZID=America/Sao_Paulo:20190129T213000
DTSTAMP:20260421T202959
CREATED:20190124T112828Z
LAST-MODIFIED:20190124T112828Z
UID:4674-1548790200-1548797400@controle.olaserragaucha.com.br
SUMMARY:Apresentação do relatório de atividades do Observatório Social de Farroupilha
DESCRIPTION:
URL:https://controle.olaserragaucha.com.br/evento/apresentacao-do-relatorio-de-atividades-do-observatorio-social-de-farroupilha/
LOCATION:UCS – Farroupilha
ATTACH;FMTTYPE=image/jpeg:https://controle.olaserragaucha.com.br/wp-content/uploads/2019/01/UCS.jpg
END:VEVENT
BEGIN:VEVENT
DTSTART;TZID=America/Sao_Paulo:20190129T080000
DTEND;TZID=America/Sao_Paulo:20190129T093000
DTSTAMP:20260421T202959
CREATED:20190124T110745Z
LAST-MODIFIED:20190124T110811Z
UID:4668-1548748800-1548754200@controle.olaserragaucha.com.br
SUMMARY:Apresentação do Concurso das Soberanas da 16ª Fenavinho
DESCRIPTION:
URL:https://controle.olaserragaucha.com.br/evento/apresentacao-do-concurso-das-soberanas-da-16a-fenavinho/
LOCATION:Prefeitura de Bento Gonçalves
ATTACH;FMTTYPE=image/jpeg:https://controle.olaserragaucha.com.br/wp-content/uploads/2019/01/Soberanas-Fenavinho.jpg
END:VEVENT
BEGIN:VEVENT
DTSTART;TZID=America/Sao_Paulo:20190125T170000
DTEND;TZID=America/Sao_Paulo:20190125T210000
DTSTAMP:20260421T202959
CREATED:20190108T121615Z
LAST-MODIFIED:20190108T121648Z
UID:4263-1548435600-1548450000@controle.olaserragaucha.com.br
SUMMARY:Abertura da Vindima no Vale dos Vinhedos
DESCRIPTION:
URL:https://controle.olaserragaucha.com.br/evento/abertura-da-vindima-no-vale-dos-vinhedos/
LOCATION:Hotel Villa Michelon – Bento Gonçalves
ATTACH;FMTTYPE=image/jpeg:https://controle.olaserragaucha.com.br/wp-content/uploads/2019/01/388-810x486.jpg
END:VEVENT
BEGIN:VEVENT
DTSTART;TZID=America/Sao_Paulo:20190123T203000
DTEND;TZID=America/Sao_Paulo:20190123T233000
DTSTAMP:20260421T202959
CREATED:20190109T152554Z
LAST-MODIFIED:20190109T152554Z
UID:4301-1548275400-1548286200@controle.olaserragaucha.com.br
SUMMARY:Posse diretoria Sindmóveis gestão 2019-2020
DESCRIPTION:
URL:https://controle.olaserragaucha.com.br/evento/posse-diretoria-sindmoveis-gestao-2019-2020/
LOCATION:Centro Empresarial – Bento Gonçalves
ATTACH;FMTTYPE=image/png:https://controle.olaserragaucha.com.br/wp-content/uploads/2019/01/Posse-diretoria-Sindmóveis-gestão-2019-2020.png
END:VEVENT
BEGIN:VEVENT
DTSTART;TZID=America/Sao_Paulo:20190118T190000
DTEND;TZID=America/Sao_Paulo:20190118T210000
DTSTAMP:20260421T202959
CREATED:20190108T105847Z
LAST-MODIFIED:20190108T105847Z
UID:4256-1547838000-1547845200@controle.olaserragaucha.com.br
SUMMARY:Abertura da Estação Vindima em Bento Gonçalves
DESCRIPTION:
URL:https://controle.olaserragaucha.com.br/evento/abertura-da-estacao-vindima-em-bento-goncalves/
LOCATION:Praça Achyles Mincarone – Bairro São Bento – Bento Gonçalves
ATTACH;FMTTYPE=image/jpeg:https://controle.olaserragaucha.com.br/wp-content/uploads/2019/01/Estacao-Vindima-2018.jpg
END:VEVENT
BEGIN:VEVENT
DTSTART;TZID=America/Sao_Paulo:20190118T180000
DTEND;TZID=America/Sao_Paulo:20190118T210000
DTSTAMP:20260421T202959
CREATED:20190108T110346Z
LAST-MODIFIED:20190108T110346Z
UID:4259-1547834400-1547845200@controle.olaserragaucha.com.br
SUMMARY:Abertura da Vindima de Garibaldi
DESCRIPTION:
URL:https://controle.olaserragaucha.com.br/evento/abertura-da-vindima-de-garibaldi/
LOCATION:Família Odete Bettú Lazzari – Estrada do Sabor – Garibaldi
ATTACH;FMTTYPE=image/jpeg:https://controle.olaserragaucha.com.br/wp-content/uploads/2019/01/vale-vindima.jpeg
END:VEVENT
BEGIN:VEVENT
DTSTART;TZID=America/Sao_Paulo:20190107T200000
DTEND;TZID=America/Sao_Paulo:20190107T230000
DTSTAMP:20260421T202959
CREATED:20190103T124735Z
LAST-MODIFIED:20190103T124735Z
UID:4203-1546891200-1546902000@controle.olaserragaucha.com.br
SUMMARY:Posse da nova diretoria da ACI
DESCRIPTION:
URL:https://controle.olaserragaucha.com.br/evento/posse-da-nova-diretoria-da-aci/
LOCATION:Sede da ACI – Carlos Barbosa
ATTACH;FMTTYPE=image/jpeg:https://controle.olaserragaucha.com.br/wp-content/uploads/2019/01/Diretoria-ACI.jpg
END:VEVENT
BEGIN:VEVENT
DTSTART;VALUE=DATE:20190101
DTEND;VALUE=DATE:20190102
DTSTAMP:20260421T202959
CREATED:20181205T115555Z
LAST-MODIFIED:20181205T115555Z
UID:3714-1546300800-1546387199@controle.olaserragaucha.com.br
SUMMARY:Ano Novo
DESCRIPTION:
URL:https://controle.olaserragaucha.com.br/evento/ano-novo/
ATTACH;FMTTYPE=image/jpeg:https://controle.olaserragaucha.com.br/wp-content/uploads/2018/12/maxresdefault.jpg
END:VEVENT
BEGIN:VEVENT
DTSTART;VALUE=DATE:20181225
DTEND;VALUE=DATE:20181226
DTSTAMP:20260421T202959
CREATED:20181205T115202Z
LAST-MODIFIED:20181205T115202Z
UID:3712-1545696000-1545782399@controle.olaserragaucha.com.br
SUMMARY:Natal
DESCRIPTION:
URL:https://controle.olaserragaucha.com.br/evento/natal/
ATTACH;FMTTYPE=image/jpeg:https://controle.olaserragaucha.com.br/wp-content/uploads/2018/12/20111219141238.jpg
END:VEVENT
BEGIN:VEVENT
DTSTART;TZID=America/Sao_Paulo:20181218T190000
DTEND;TZID=America/Sao_Paulo:20181218T210000
DTSTAMP:20260421T202959
CREATED:20181217T190220Z
LAST-MODIFIED:20181217T190220Z
UID:3956-1545159600-1545166800@controle.olaserragaucha.com.br
SUMMARY:Inauguração da nova unidade materno-infantil Unimed Caxias do Sul
DESCRIPTION:
URL:https://controle.olaserragaucha.com.br/evento/inauguracao-da-nova-unidade-materno-infantil-unimed-caxias-do-sul/
LOCATION:Hospital Unimed – Caxias do Sul
ATTACH;FMTTYPE=image/jpeg:https://controle.olaserragaucha.com.br/wp-content/uploads/2018/12/unimed.jpg
END:VEVENT
BEGIN:VEVENT
DTSTART;TZID=America/Sao_Paulo:20181215T090000
DTEND;TZID=America/Sao_Paulo:20181215T120000
DTSTAMP:20260421T202959
CREATED:20181212T123903Z
LAST-MODIFIED:20181212T123903Z
UID:3857-1544864400-1544875200@controle.olaserragaucha.com.br
SUMMARY:Mateada de Natal Solidária
DESCRIPTION:
URL:https://controle.olaserragaucha.com.br/evento/mateada-de-natal-solidaria/
LOCATION:Via Del Vino – Centro de Bento Gonçalves
ATTACH;FMTTYPE=image/jpeg:https://controle.olaserragaucha.com.br/wp-content/uploads/2018/12/48051717_2012758272149966_8087876567482499072_n.jpg
END:VEVENT
BEGIN:VEVENT
DTSTART;TZID=America/Sao_Paulo:20181212T190000
DTEND;TZID=America/Sao_Paulo:20181212T210000
DTSTAMP:20260421T202959
CREATED:20181211T172517Z
LAST-MODIFIED:20181211T174528Z
UID:3833-1544641200-1544648400@controle.olaserragaucha.com.br
SUMMARY:Inauguração do Semper Instituto de Reabilitação Neuro-Ortopédica
DESCRIPTION:
URL:https://controle.olaserragaucha.com.br/evento/inauguracao-do-semper-instituto-de-reabilitacao-neuro-ortopedica/
LOCATION:Rua: Antônio Ribeiro Mendes\, 2527 – Caxias do Sul
ATTACH;FMTTYPE=image/jpeg:https://controle.olaserragaucha.com.br/wp-content/uploads/2018/12/CONVITE-SEMPER.jpg
END:VEVENT
BEGIN:VEVENT
DTSTART;TZID=America/Sao_Paulo:20181212T093000
DTEND;TZID=America/Sao_Paulo:20181212T113000
DTSTAMP:20260421T202959
CREATED:20181210T121034Z
LAST-MODIFIED:20181210T121034Z
UID:3817-1544607000-1544614200@controle.olaserragaucha.com.br
SUMMARY:Apresentação do sistema de ensino Aprende Brasil e Aluno Ouro de Veranópolis
DESCRIPTION:
URL:https://controle.olaserragaucha.com.br/evento/apresentacao-do-sistema-de-ensino-aprende-brasil-e-aluno-ouro-de-veranopolis/
LOCATION:Auditório da ACIV (Alameda Santos Dumont\, 525 – Femaçã – Veranópolis)
ATTACH;FMTTYPE=image/jpeg:https://controle.olaserragaucha.com.br/wp-content/uploads/2018/12/57950211.jpg
END:VEVENT
BEGIN:VEVENT
DTSTART;TZID=America/Sao_Paulo:20181211T183000
DTEND;TZID=America/Sao_Paulo:20181211T223000
DTSTAMP:20260421T202959
CREATED:20181210T120518Z
LAST-MODIFIED:20181210T120547Z
UID:3815-1544553000-1544567400@controle.olaserragaucha.com.br
SUMMARY:Happy Hour FundaParque
DESCRIPTION:
URL:https://controle.olaserragaucha.com.br/evento/happy-hour-fundaparque/
ATTACH;FMTTYPE=image/jpeg:https://controle.olaserragaucha.com.br/wp-content/uploads/2018/12/Convite-Imprensa.jpg
END:VEVENT
BEGIN:VEVENT
DTSTART;TZID=America/Sao_Paulo:20181209T160000
DTEND;TZID=America/Sao_Paulo:20181209T210000
DTSTAMP:20260421T202959
CREATED:20181205T131754Z
LAST-MODIFIED:20181205T131754Z
UID:3726-1544371200-1544389200@controle.olaserragaucha.com.br
SUMMARY:Natal Mágico Peterlongo
DESCRIPTION:
URL:https://controle.olaserragaucha.com.br/evento/natal-magico-peterlongo/
LOCATION:Vinícola Peterlongo – Garibaldi
ATTACH;FMTTYPE=image/png:https://controle.olaserragaucha.com.br/wp-content/uploads/2018/12/Natal-Magico-Peterlongo.png
END:VEVENT
BEGIN:VEVENT
DTSTART;TZID=America/Sao_Paulo:20181209T120000
DTEND;TZID=America/Sao_Paulo:20181209T200000
DTSTAMP:20260421T202959
CREATED:20181206T183648Z
LAST-MODIFIED:20181206T183903Z
UID:3762-1544356800-1544385600@controle.olaserragaucha.com.br
SUMMARY:Wine for Us Festival
DESCRIPTION:Wine For Us é um festival que reúne espumantes\, vinhos\, gastronomia e música a céu aberto. \nAs vinícolas Larentis\, Lovara\, Cristófoli e Cainelli estarão comercializando seus vinhos e espumantes em taças e garrafas\, e a gastronomia fica por conta das cozinhas do Cobo Wine Bar e do restaurante Di Paolo. Shows com Acústicos ¾ e Etiene & Black Souls. \nA entrada custa R$ 10\,00 por pessoa e dá direito à uma taça exclusiva. \nA programação faz parte do Natal Bento. Participe trazendo um brinquedo ou material escolar\, que serão doados para crianças carentes.
URL:https://controle.olaserragaucha.com.br/evento/wine-for-us/
LOCATION:Vinícola Lovara – Bento Gonçalves
ATTACH;FMTTYPE=image/jpeg:https://controle.olaserragaucha.com.br/wp-content/uploads/2018/12/wine-for-us.jpg
END:VEVENT
BEGIN:VEVENT
DTSTART;TZID=America/Sao_Paulo:20181209T120000
DTEND;TZID=America/Sao_Paulo:20181209T140000
DTSTAMP:20260421T202959
CREATED:20181205T114830Z
LAST-MODIFIED:20181205T114830Z
UID:3709-1544356800-1544364000@controle.olaserragaucha.com.br
SUMMARY:Almoço beneficente da ADVBG
DESCRIPTION:
URL:https://controle.olaserragaucha.com.br/evento/almoco-beneficente-da-advbg/
LOCATION:Salão da Comunidade de Santa Rita – Bento Gonçalves
ATTACH;FMTTYPE=image/jpeg:https://controle.olaserragaucha.com.br/wp-content/uploads/2018/12/ADVBG.jpeg
END:VEVENT
BEGIN:VEVENT
DTSTART;TZID=America/Sao_Paulo:20181207T203000
DTEND;TZID=America/Sao_Paulo:20181207T213000
DTSTAMP:20260421T202959
CREATED:20181206T183035Z
LAST-MODIFIED:20181206T183035Z
UID:3759-1544214600-1544218200@controle.olaserragaucha.com.br
SUMMARY:Abertura oficial do Natal é Arte
DESCRIPTION:
URL:https://controle.olaserragaucha.com.br/evento/abertura-oficial-do-natal-e-arte/
LOCATION:Estação da Cultura – Montenegro
ATTACH;FMTTYPE=image/jpeg:https://controle.olaserragaucha.com.br/wp-content/uploads/2018/12/Programação-Natal-É-Arte-Montenegro.jpg
END:VEVENT
BEGIN:VEVENT
DTSTART;TZID=America/Sao_Paulo:20181207T200000
DTEND;TZID=America/Sao_Paulo:20181207T220000
DTSTAMP:20260421T202959
CREATED:20181203T121558Z
LAST-MODIFIED:20181203T121736Z
UID:3671-1544212800-1544220000@controle.olaserragaucha.com.br
SUMMARY:Abertura do 16º Natale Del Gesú Bambin
DESCRIPTION:
URL:https://controle.olaserragaucha.com.br/evento/abertura-do-16o-natale-del-gesu-bambin/
LOCATION:Salão da Comunidade Bom Pastor – Linha Cruzeiro – Caminhos de Pedra – Bento Gonçalves
ATTACH;FMTTYPE=image/jpeg:https://controle.olaserragaucha.com.br/wp-content/uploads/2018/12/convite.jpg
END:VEVENT
BEGIN:VEVENT
DTSTART;TZID=America/Sao_Paulo:20181206T200000
DTEND;TZID=America/Sao_Paulo:20181206T220000
DTSTAMP:20260421T202959
CREATED:20181205T160435Z
LAST-MODIFIED:20181205T160740Z
UID:3729-1544126400-1544133600@controle.olaserragaucha.com.br
SUMMARY:Abertura do Natal Bento
DESCRIPTION:
URL:https://controle.olaserragaucha.com.br/evento/abertura-do-natal-bento/
LOCATION:Via Del Vino – Bento Gonçalves
ATTACH;FMTTYPE=image/jpeg:https://controle.olaserragaucha.com.br/wp-content/uploads/2018/12/Convite-Abertura-1.jpg
END:VEVENT
BEGIN:VEVENT
DTSTART;TZID=America/Sao_Paulo:20181204T080000
DTEND;TZID=America/Sao_Paulo:20181204T100000
DTSTAMP:20260421T202959
CREATED:20181205T114326Z
LAST-MODIFIED:20181205T114326Z
UID:3707-1543910400-1543917600@controle.olaserragaucha.com.br
SUMMARY:Visita ao Dall'Onder Caxias Axten Hotel
DESCRIPTION:
URL:https://controle.olaserragaucha.com.br/evento/visita-ao-dallonder-caxias-axten-hotel/
LOCATION:Dall’Onder Caxias Axten Hotel – Caxias do Sul
ATTACH;FMTTYPE=image/jpeg:https://controle.olaserragaucha.com.br/wp-content/uploads/2018/12/CONVITE-AXTEN-HOTEL.jpg
END:VEVENT
BEGIN:VEVENT
DTSTART;TZID=America/Sao_Paulo:20181203T200000
DTEND;TZID=America/Sao_Paulo:20181203T220000
DTSTAMP:20260421T202959
CREATED:20181205T114143Z
LAST-MODIFIED:20181205T114143Z
UID:3704-1543867200-1543874400@controle.olaserragaucha.com.br
SUMMARY:Apresentação dos dados estatísticos da área de Segurança Pública de Garibaldi
DESCRIPTION:
URL:https://controle.olaserragaucha.com.br/evento/apresentacao-dos-dados-estatisticos-da-area-de-seguranca-publica-de-garibaldi/
LOCATION:Galpão Crioulo Província de São Pedro – Garibaldi
ATTACH;FMTTYPE=image/jpeg:https://controle.olaserragaucha.com.br/wp-content/uploads/2018/12/convite-policia-civil-Garibaldi.jpeg
END:VEVENT
BEGIN:VEVENT
DTSTART;TZID=America/Sao_Paulo:20181203T114500
DTEND;TZID=America/Sao_Paulo:20181203T133000
DTSTAMP:20260421T202959
CREATED:20181203T121051Z
LAST-MODIFIED:20181203T121051Z
UID:3668-1543837500-1543843800@controle.olaserragaucha.com.br
SUMMARY:Palestra-almoço sobre Como o Desperdício pode matar uma Empresa
DESCRIPTION:
URL:https://controle.olaserragaucha.com.br/evento/palestra-almoco-sobre-como-o-desperdicio-pode-matar-uma-empresa/
LOCATION:Centro Empresarial – CIC – Bento Gonçalves
ATTACH;FMTTYPE=image/png:https://controle.olaserragaucha.com.br/wp-content/uploads/2018/12/News-palestra-Ademar-IMPRENSA.png
END:VEVENT
BEGIN:VEVENT
DTSTART;TZID=America/Sao_Paulo:20181201T180000
DTEND;TZID=America/Sao_Paulo:20181201T230000
DTSTAMP:20260421T202959
CREATED:20181127T161053Z
LAST-MODIFIED:20181127T161053Z
UID:3548-1543687200-1543705200@controle.olaserragaucha.com.br
SUMMARY:Inauguração do Novo Complexo Enoturístico Peterlongo
DESCRIPTION:
URL:https://controle.olaserragaucha.com.br/evento/inauguracao-do-novo-complexo-enoturistico-peterlongo/
LOCATION:Peterlongo – Garibaldi
ATTACH;FMTTYPE=image/jpeg:https://controle.olaserragaucha.com.br/wp-content/uploads/2018/11/01.jpg
END:VEVENT
BEGIN:VEVENT
DTSTART;TZID=America/Sao_Paulo:20181201T130000
DTEND;TZID=America/Sao_Paulo:20181201T170000
DTSTAMP:20260421T202959
CREATED:20181126T113446Z
LAST-MODIFIED:20181127T164850Z
UID:3487-1543669200-1543683600@controle.olaserragaucha.com.br
SUMMARY:Universo Alegria
DESCRIPTION:Abertura dos portões: 10h\nInício dos shows: 13h \nAtrações:\nJorge e Mateus\nSimone e Simaria\nWesley Safadão\nHenrique e Juliano\nKevinho\nZé Neto e Cristiano\nDennis DJ\nDiego e Victor Hugo
URL:https://controle.olaserragaucha.com.br/evento/11o-universo-alegria/
ATTACH;FMTTYPE=image/jpeg:https://controle.olaserragaucha.com.br/wp-content/uploads/2018/11/universo-alegria-2018.jpeg
END:VEVENT
END:VCALENDAR