BEGIN:VCALENDAR
VERSION:2.0
PRODID:-//Olá, Serra Gaúcha! - ECPv6.3.5//NONSGML v1.0//EN
CALSCALE:GREGORIAN
METHOD:PUBLISH
X-ORIGINAL-URL:https://controle.olaserragaucha.com.br
X-WR-CALDESC:Eventos para Olá, Serra Gaúcha!
REFRESH-INTERVAL;VALUE=DURATION:PT1H
X-Robots-Tag:noindex
X-PUBLISHED-TTL:PT1H
BEGIN:VTIMEZONE
TZID:America/Sao_Paulo
BEGIN:STANDARD
TZOFFSETFROM:-0200
TZOFFSETTO:-0300
TZNAME:-03
DTSTART:20180218T020000
END:STANDARD
BEGIN:DAYLIGHT
TZOFFSETFROM:-0300
TZOFFSETTO:-0200
TZNAME:-02
DTSTART:20181104T030000
END:DAYLIGHT
END:VTIMEZONE
BEGIN:VEVENT
DTSTART;TZID=America/Sao_Paulo:20181123T200000
DTEND;TZID=America/Sao_Paulo:20181123T230000
DTSTAMP:20260422T092150
CREATED:20181119T113654Z
LAST-MODIFIED:20181119T113654Z
UID:3262-1543003200-1543014000@controle.olaserragaucha.com.br
SUMMARY:Escolha das Soberanas da Fenachamp 2019
DESCRIPTION:
URL:https://controle.olaserragaucha.com.br/evento/escolha-das-soberanas-da-fenachamp-2019/
LOCATION:Parque da Fenachamp – Garibaldi
ATTACH;FMTTYPE=image/png:https://controle.olaserragaucha.com.br/wp-content/uploads/2018/11/fenachamp-1.png
END:VEVENT
BEGIN:VEVENT
DTSTART;TZID=America/Sao_Paulo:20181122T193000
DTEND;TZID=America/Sao_Paulo:20181122T213000
DTSTAMP:20260422T092150
CREATED:20181119T114438Z
LAST-MODIFIED:20181119T114511Z
UID:3273-1542915000-1542922200@controle.olaserragaucha.com.br
SUMMARY:Palestra-Jantar com ex-prefeito de Maringá\, Sílvio Barros
DESCRIPTION:
URL:https://controle.olaserragaucha.com.br/evento/palestra-jantar-com-ex-prefeito-de-maringa-silvio-barros/
LOCATION:Centro Empresarial – Bento Gonçalves
ATTACH;FMTTYPE=image/png:https://controle.olaserragaucha.com.br/wp-content/uploads/2018/11/115.png
END:VEVENT
BEGIN:VEVENT
DTSTART;TZID=America/Sao_Paulo:20181122T180000
DTEND;TZID=America/Sao_Paulo:20181122T200000
DTSTAMP:20260422T092150
CREATED:20181119T113021Z
LAST-MODIFIED:20181119T113021Z
UID:3257-1542909600-1542916800@controle.olaserragaucha.com.br
SUMMARY:Lançamento do Natal Bento
DESCRIPTION:
URL:https://controle.olaserragaucha.com.br/evento/lancamento-do-natal-bento/
LOCATION:Salão Nobre da Prefeitura de Bento Gonçalves
ATTACH;FMTTYPE=application/pdf:https://controle.olaserragaucha.com.br/wp-content/uploads/2018/11/CONVITE-NATAL-BENTO.pdf
END:VEVENT
BEGIN:VEVENT
DTSTART;TZID=America/Sao_Paulo:20181122T100000
DTEND;TZID=America/Sao_Paulo:20181122T110000
DTSTAMP:20260422T092150
CREATED:20181120T192814Z
LAST-MODIFIED:20181120T192814Z
UID:3303-1542880800-1542884400@controle.olaserragaucha.com.br
SUMMARY:Lançamento da Campanha de Sócios do Sindicato dos Trabalhadores Metalúrgicos Caxias do Sul
DESCRIPTION:
URL:https://controle.olaserragaucha.com.br/evento/lancamento-da-campanha-de-socios-do-sindicato-dos-trabalhadores-metalurgicos-caxias-do-sul/
LOCATION:Auditório da sede do Sindicato – Caxias do Sul
ATTACH;FMTTYPE=image/jpeg:https://controle.olaserragaucha.com.br/wp-content/uploads/2018/11/Convite_Campanha.jpg
END:VEVENT
BEGIN:VEVENT
DTSTART;TZID=America/Sao_Paulo:20181121T203000
DTEND;TZID=America/Sao_Paulo:20181121T233000
DTSTAMP:20260422T092150
CREATED:20181119T134008Z
LAST-MODIFIED:20181119T134008Z
UID:3275-1542832200-1542843000@controle.olaserragaucha.com.br
SUMMARY:Inauguração do Pub Latitude 29
DESCRIPTION:
URL:https://controle.olaserragaucha.com.br/evento/inauguracao-do-pub-latitude-29/
LOCATION:Rua Parnaíba\, 705 – Esquina com Herny Hugo Dreher – Bento Gonçalves
ATTACH;FMTTYPE=image/png:https://controle.olaserragaucha.com.br/wp-content/uploads/2018/11/Pub-Latitude-29.png
END:VEVENT
BEGIN:VEVENT
DTSTART;TZID=America/Sao_Paulo:20181121T190000
DTEND;TZID=America/Sao_Paulo:20181121T210000
DTSTAMP:20260422T092150
CREATED:20181119T112718Z
LAST-MODIFIED:20181119T112807Z
UID:3254-1542826800-1542834000@controle.olaserragaucha.com.br
SUMMARY:1º Movimente: Congresso do Conhecimento
DESCRIPTION:
URL:https://controle.olaserragaucha.com.br/evento/1o-movimente-congresso-do-conhecimento/
LOCATION:Fundação Casa das Artes – Bento Gonçalves
ATTACH;FMTTYPE=image/jpeg:https://controle.olaserragaucha.com.br/wp-content/uploads/2018/11/palestras.jpg
END:VEVENT
BEGIN:VEVENT
DTSTART;TZID=America/Sao_Paulo:20181121T080000
DTEND;TZID=America/Sao_Paulo:20181121T100000
DTSTAMP:20260422T092150
CREATED:20181119T112455Z
LAST-MODIFIED:20181119T112455Z
UID:3251-1542787200-1542794400@controle.olaserragaucha.com.br
SUMMARY:Lançamento da 29ª ExpoBento 2019
DESCRIPTION:
URL:https://controle.olaserragaucha.com.br/evento/lancamento-da-29a-expobento-2019/
LOCATION:Centro Empresarial – Bento Gonçalves
ATTACH;FMTTYPE=image/png:https://controle.olaserragaucha.com.br/wp-content/uploads/2018/11/ExpoBento-news-convite.png
END:VEVENT
BEGIN:VEVENT
DTSTART;TZID=America/Sao_Paulo:20181120T183000
DTEND;TZID=America/Sao_Paulo:20181120T203000
DTSTAMP:20260422T092150
CREATED:20181119T112311Z
LAST-MODIFIED:20181119T112311Z
UID:3247-1542738600-1542745800@controle.olaserragaucha.com.br
SUMMARY:Abertura da Semana da Consciência Negra
DESCRIPTION:
URL:https://controle.olaserragaucha.com.br/evento/abertura-da-semana-da-consciencia-negra/
LOCATION:Museu do Imigrante – Bento Gonçalves
ATTACH;FMTTYPE=application/pdf:https://controle.olaserragaucha.com.br/wp-content/uploads/2018/11/CONVITE-CULTURA-NEGRA.pdf
END:VEVENT
BEGIN:VEVENT
DTSTART;TZID=America/Sao_Paulo:20181119T190000
DTEND;TZID=America/Sao_Paulo:20181119T210000
DTSTAMP:20260422T092150
CREATED:20181119T112000Z
LAST-MODIFIED:20181119T133622Z
UID:3244-1542654000-1542661200@controle.olaserragaucha.com.br
SUMMARY:Posse da diretoria da AFFEMAQ
DESCRIPTION:
URL:https://controle.olaserragaucha.com.br/evento/posse-da-diretoria-da-affemaq-2019-2020/
LOCATION:Salão de eventos do SIMMME – Bento Gonçalves
ATTACH;FMTTYPE=image/jpeg:https://controle.olaserragaucha.com.br/wp-content/uploads/2018/11/Posse-AFFEMAQ.jpg
END:VEVENT
BEGIN:VEVENT
DTSTART;TZID=America/Sao_Paulo:20181117T110000
DTEND;TZID=America/Sao_Paulo:20181117T230000
DTSTAMP:20260422T092150
CREATED:20181112T131220Z
LAST-MODIFIED:20181113T185744Z
UID:3083-1542452400-1542495600@controle.olaserragaucha.com.br
SUMMARY:Vieni Vivere La Vita Festival
DESCRIPTION:
URL:https://controle.olaserragaucha.com.br/evento/inicio-do-vieni-vivere-la-vita-festival/
LOCATION:Praça de Monte Belo do Sul
ATTACH;FMTTYPE=image/jpeg:https://controle.olaserragaucha.com.br/wp-content/uploads/2018/11/WhatsApp-Image-2018-09-19-at-14.26.00-1024x1024.jpeg
END:VEVENT
BEGIN:VEVENT
DTSTART;TZID=America/Sao_Paulo:20181117T093000
DTEND;TZID=America/Sao_Paulo:20181117T113000
DTSTAMP:20260422T092150
CREATED:20181112T130955Z
LAST-MODIFIED:20181112T130955Z
UID:3080-1542447000-1542454200@controle.olaserragaucha.com.br
SUMMARY:Café com Memória: Histórias das Rádios de Bento Gonçalves
DESCRIPTION:
URL:https://controle.olaserragaucha.com.br/evento/cafe-com-memoria-historias-das-radios-de-bento-goncalves/
LOCATION:Fundação Casa das Artes – Bento Gonçalves
ATTACH;FMTTYPE=image/jpeg:https://controle.olaserragaucha.com.br/wp-content/uploads/2018/11/Museu-do-Imigrante.jpg
END:VEVENT
BEGIN:VEVENT
DTSTART;TZID=America/Sao_Paulo:20181115T000000
DTEND;TZID=America/Sao_Paulo:20181115T233000
DTSTAMP:20260422T092150
CREATED:20181112T130411Z
LAST-MODIFIED:20181112T130411Z
UID:3078-1542240000-1542324600@controle.olaserragaucha.com.br
SUMMARY:Feriado: Proclamação da República
DESCRIPTION:
URL:https://controle.olaserragaucha.com.br/evento/feriado-proclamacao-da-republica/
ATTACH;FMTTYPE=image/png:https://controle.olaserragaucha.com.br/wp-content/uploads/2018/11/proclamacao-da-republica-f.png
END:VEVENT
BEGIN:VEVENT
DTSTART;TZID=America/Sao_Paulo:20181113T190000
DTEND;TZID=America/Sao_Paulo:20181113T210000
DTSTAMP:20260422T092150
CREATED:20181112T125918Z
LAST-MODIFIED:20181112T125918Z
UID:3071-1542135600-1542142800@controle.olaserragaucha.com.br
SUMMARY:Desfile beneficente Explosão de Vida da ADEF
DESCRIPTION:
URL:https://controle.olaserragaucha.com.br/evento/desfile-beneficente-explosao-de-vida-da-adef/
LOCATION:Dall Onder Grande Hotel – Bento Gonçalves
ATTACH;FMTTYPE=image/png:https://controle.olaserragaucha.com.br/wp-content/uploads/2018/11/Adef2.png
END:VEVENT
BEGIN:VEVENT
DTSTART;TZID=America/Sao_Paulo:20181113T150000
DTEND;TZID=America/Sao_Paulo:20181113T170000
DTSTAMP:20260422T092150
CREATED:20181112T125712Z
LAST-MODIFIED:20181112T125712Z
UID:3068-1542121200-1542128400@controle.olaserragaucha.com.br
SUMMARY:Visita a estrutura do Hospital Pompéia
DESCRIPTION:
URL:https://controle.olaserragaucha.com.br/evento/visita-a-estrutura-do-hospital-pompeia/
LOCATION:Hospital Pompéia – Caxias do Sul
ATTACH;FMTTYPE=image/png:https://controle.olaserragaucha.com.br/wp-content/uploads/2018/11/Visita-novembro.png
END:VEVENT
BEGIN:VEVENT
DTSTART;TZID=America/Sao_Paulo:20181113T100000
DTEND;TZID=America/Sao_Paulo:20181113T120000
DTSTAMP:20260422T092150
CREATED:20181112T125417Z
LAST-MODIFIED:20181112T125417Z
UID:3065-1542103200-1542110400@controle.olaserragaucha.com.br
SUMMARY:Formatura alusiva dos 43 anos do 6º Batalhão de Comunicações
DESCRIPTION:
URL:https://controle.olaserragaucha.com.br/evento/formatura-alusiva-dos-43-anos-do-6o-batalhao-de-comunicacoes/
LOCATION:6º BCOM – Bairro São Roque – Bento Gonçalves]
ATTACH;FMTTYPE=image/jpeg:https://controle.olaserragaucha.com.br/wp-content/uploads/2018/11/Convite-aniversário-do-btl.jpeg
END:VEVENT
BEGIN:VEVENT
DTSTART;TZID=America/Sao_Paulo:20181112T083000
DTEND;TZID=America/Sao_Paulo:20181112T093000
DTSTAMP:20260422T092150
CREATED:20181112T130138Z
LAST-MODIFIED:20181112T130138Z
UID:3074-1542011400-1542015000@controle.olaserragaucha.com.br
SUMMARY:Lançamento do Projeto Leãozinho do Bem 2019
DESCRIPTION:
URL:https://controle.olaserragaucha.com.br/evento/lancamento-do-projeto-leaozinho-do-bem-2019/
LOCATION:SICOOB Inova – Av. Osvaldo Aranha\, 831 – Bento Gonçalves
ATTACH;FMTTYPE=image/png:https://controle.olaserragaucha.com.br/wp-content/uploads/2018/11/Convite-Leãozinho-do-Bem.png
END:VEVENT
BEGIN:VEVENT
DTSTART;TZID=America/Sao_Paulo:20181110T200000
DTEND;TZID=America/Sao_Paulo:20181110T230000
DTSTAMP:20260422T092150
CREATED:20181106T100441Z
LAST-MODIFIED:20181106T100441Z
UID:2886-1541880000-1541890800@controle.olaserragaucha.com.br
SUMMARY:Sparkling Night Run
DESCRIPTION:
URL:https://controle.olaserragaucha.com.br/evento/sparkling-night-run/
LOCATION:Centro – Garibaldi
ATTACH;FMTTYPE=image/jpeg:https://controle.olaserragaucha.com.br/wp-content/uploads/2018/11/1527080162611945.jpg
END:VEVENT
BEGIN:VEVENT
DTSTART;TZID=America/Sao_Paulo:20181110T110000
DTEND;TZID=America/Sao_Paulo:20181110T120000
DTSTAMP:20260422T092150
CREATED:20181106T100844Z
LAST-MODIFIED:20181107T172623Z
UID:2889-1541847600-1541851200@controle.olaserragaucha.com.br
SUMMARY:Abertura da 20ª Festa da Amora e Morango
DESCRIPTION:
URL:https://controle.olaserragaucha.com.br/evento/abertura-oficial-da-20a-festa-da-amora-e-morango/
LOCATION:Parque Municipal de Feliz
ATTACH;FMTTYPE=image/jpeg:https://controle.olaserragaucha.com.br/wp-content/uploads/2018/11/Convite-Festa-da-Amora-e-Morango.jpeg
END:VEVENT
BEGIN:VEVENT
DTSTART;TZID=America/Sao_Paulo:20181109T180000
DTEND;TZID=America/Sao_Paulo:20181109T230000
DTSTAMP:20260422T092150
CREATED:20181105T155841Z
LAST-MODIFIED:20181105T155841Z
UID:2881-1541786400-1541804400@controle.olaserragaucha.com.br
SUMMARY:Garibaldi Vintage
DESCRIPTION:
URL:https://controle.olaserragaucha.com.br/evento/garibaldi-vintage/
LOCATION:Centro – Garibaldi
ATTACH;FMTTYPE=image/jpeg:https://controle.olaserragaucha.com.br/wp-content/uploads/2018/11/5-edição-Créditos-da-foto-Kais-Musa-2.jpg
END:VEVENT
BEGIN:VEVENT
DTSTART;TZID=America/Sao_Paulo:20181108T200000
DTEND;TZID=America/Sao_Paulo:20181108T230000
DTSTAMP:20260422T092150
CREATED:20181106T102433Z
LAST-MODIFIED:20181107T172729Z
UID:2895-1541707200-1541718000@controle.olaserragaucha.com.br
SUMMARY:Abertura da 30ª FESTURIS
DESCRIPTION:
URL:https://controle.olaserragaucha.com.br/evento/abertura-oficial-da-30a-edicao-do-festuris-gramado/
ATTACH;FMTTYPE=image/png:https://controle.olaserragaucha.com.br/wp-content/uploads/2018/11/Convite-VIP-Online-02.png
END:VEVENT
BEGIN:VEVENT
DTSTART;TZID=America/Sao_Paulo:20181108T130000
DTEND;TZID=America/Sao_Paulo:20181108T160000
DTSTAMP:20260422T092150
CREATED:20181105T155513Z
LAST-MODIFIED:20181107T172808Z
UID:2878-1541682000-1541692800@controle.olaserragaucha.com.br
SUMMARY:Abertura do Congresso Estadual AEARV
DESCRIPTION:
URL:https://controle.olaserragaucha.com.br/evento/abertura-oficial-do-congresso-estadual-aearv/
LOCATION:Fundação Casa das Artes – Bento Gonçalves
ATTACH;FMTTYPE=image/jpeg:https://controle.olaserragaucha.com.br/wp-content/uploads/2018/11/convite-imprensa.jpg
END:VEVENT
BEGIN:VEVENT
DTSTART;TZID=America/Sao_Paulo:20181103T190000
DTEND;TZID=America/Sao_Paulo:20181103T233000
DTSTAMP:20260422T092150
CREATED:20181101T142014Z
LAST-MODIFIED:20181101T142104Z
UID:2854-1541271600-1541287800@controle.olaserragaucha.com.br
SUMMARY:Show com Nando Reis
DESCRIPTION:O que: show com Nando Reis \nQuando: dia 3 de novembro\, às 21h30min. Abertura dos portões às 19h \nOnde: Pavilhão E do Parque de Eventos\, em Bento Gonçalves (Alameda Fenavinho\, 481) \nQuanto: entre R$ 30 e R$ 180\, à venda no site blueticket.com.br  \nHá cobrança de taxas. Menores de 14 anos somente terão acesso acompanhado pelos pais ou responsável legal. Menores de cinco anos não pagam ingresso desde que não ocupem assento
URL:https://controle.olaserragaucha.com.br/evento/show-com-nando-reis/
LOCATION:Pavilhão E do Parque de Eventos\, em Bento Gonçalves
ATTACH;FMTTYPE=image/jpeg:https://controle.olaserragaucha.com.br/wp-content/uploads/2018/11/22938.jpg
END:VEVENT
BEGIN:VEVENT
DTSTART;TZID=America/Sao_Paulo:20181102T000000
DTEND;TZID=America/Sao_Paulo:20181102T233000
DTSTAMP:20260422T092150
CREATED:20181101T141611Z
LAST-MODIFIED:20181101T142439Z
UID:2852-1541116800-1541201400@controle.olaserragaucha.com.br
SUMMARY:Feriado - Dia de Finados
DESCRIPTION:
URL:https://controle.olaserragaucha.com.br/evento/feriado-dia-dos-finados/
ATTACH;FMTTYPE=image/jpeg:https://controle.olaserragaucha.com.br/wp-content/uploads/2018/11/2-de-novembro-Finados.jpg
END:VEVENT
BEGIN:VEVENT
DTSTART;TZID=America/Sao_Paulo:20181031T073000
DTEND;TZID=America/Sao_Paulo:20181031T093000
DTSTAMP:20260422T092150
CREATED:20181029T132819Z
LAST-MODIFIED:20181029T132819Z
UID:2794-1540971000-1540978200@controle.olaserragaucha.com.br
SUMMARY:Café com a imprensa Aniversário de Garibaldi
DESCRIPTION:
URL:https://controle.olaserragaucha.com.br/evento/cafe-com-a-imprensa-aniversario-de-garibaldi/
LOCATION:Centro Administrativo – Garibaldi
ATTACH;FMTTYPE=image/jpeg:https://controle.olaserragaucha.com.br/wp-content/uploads/2018/10/ANIVERSÁRIO-GARIBALDI-1.jpeg
END:VEVENT
BEGIN:VEVENT
DTSTART;TZID=America/Sao_Paulo:20181031T060000
DTEND;TZID=America/Sao_Paulo:20181031T200000
DTSTAMP:20260422T092150
CREATED:20181029T133230Z
LAST-MODIFIED:20181031T142047Z
UID:2798-1540965600-1541016000@controle.olaserragaucha.com.br
SUMMARY:Início da Rádio Serrana FM 106.1
DESCRIPTION:
URL:https://controle.olaserragaucha.com.br/evento/inicio-da-radio-serrana-fm-106-1/
LOCATION:Garibaldi
ATTACH;FMTTYPE=image/jpeg:https://controle.olaserragaucha.com.br/wp-content/uploads/2018/10/44319783_1146365218872520_6029402521804472320_n-1.jpg
END:VEVENT
BEGIN:VEVENT
DTSTART;TZID=America/Sao_Paulo:20181030T080000
DTEND;TZID=America/Sao_Paulo:20181030T100000
DTSTAMP:20260422T092150
CREATED:20181029T132404Z
LAST-MODIFIED:20181029T132404Z
UID:2792-1540886400-1540893600@controle.olaserragaucha.com.br
SUMMARY:Café com a imprensa Concepro Bento Gonçalves
DESCRIPTION:
URL:https://controle.olaserragaucha.com.br/evento/cafe-com-a-imprensa-concepro-bento-goncalves/
ATTACH;FMTTYPE=image/jpeg:https://controle.olaserragaucha.com.br/wp-content/uploads/2018/10/Convite-repasse-e-Bentosegura.jpg
END:VEVENT
BEGIN:VEVENT
DTSTART;TZID=America/Sao_Paulo:20181029T080000
DTEND;TZID=America/Sao_Paulo:20181029T100000
DTSTAMP:20260422T092150
CREATED:20181029T131543Z
LAST-MODIFIED:20181029T131543Z
UID:2789-1540800000-1540807200@controle.olaserragaucha.com.br
SUMMARY:Foco no Futuro: O comércio que queremos para Bento Gonçalves
DESCRIPTION:
URL:https://controle.olaserragaucha.com.br/evento/foco-no-futuro-o-comercio-que-queremos-para-bento-goncalves/
LOCATION:Sindilojas – Bento Gonçalves
ATTACH;FMTTYPE=image/png:https://controle.olaserragaucha.com.br/wp-content/uploads/2018/10/logo_SindilojasBG-1024x529.png
END:VEVENT
BEGIN:VEVENT
DTSTART;TZID=America/Sao_Paulo:20181028T080000
DTEND;TZID=America/Sao_Paulo:20181028T170000
DTSTAMP:20260422T092150
CREATED:20181022T172522Z
LAST-MODIFIED:20181022T172705Z
UID:2671-1540713600-1540746000@controle.olaserragaucha.com.br
SUMMARY:Eleições - 2º turno
DESCRIPTION:Quando será o segundo turno?\nA segunda parte do pleito ocorre em 28 de outubro. A votação vai das 8h às 17h\, sempre no horário local. Apenas eleitores que já estiverem dentro do local de votação após o fechamento dos portões\, com senha\, poderão votar após esse horário. \nQuais candidatos serão eleitos?\nEm todo o país\, os eleitores vão escolher entre Jair Bolsonaro e Fernando Haddad para o cargo de presidente. Em treze estados e no Distrito Federal\, também serão escolhidos os governadores. Os locais são: Amapá\, Amazonas\, Mato Grosso do Sul\, Minas Gerais\, Pará\, Rio de Janeiro\, Rio Grande do Norte\, Rio Grande do Sul\, Rondônia\, Roraima\, Santa Catarina\, São Paulo e Sergipe. \nQuais documentos preciso levar?\nO título de eleitor não é necessário. É preciso levar um documento oficial com foto\, como CNH (Carteira Nacional de Habilitação)\, RG\, carteira de trabalho\, certificado de reservista\, DNI (Documento Nacional de Identidade)\, e-Título (título de eleitor digital) ou passaporte. \nComo saber o local de votação?\nOs dados podem ser consultados no site do TSE. \nPerdi o primeiro turno. Posso votar no segundo?\nSim. Quem não votou no primeiro e não tem pendências na Justiça Eleitoral pode votar no segundo\, pois os turnos são independentes. Lembrando que\, quem não votar\, precisa justificar a ausência. \nComo faço se perder os dois turnos?\nÉ preciso justificar a ausência separadamente\, para cada turno\, para não ter pendências com a Justiça Eleitoral. \nComo justificar a ausência?\nO eleitor tem de levar um documento oficial com foto\, o título de eleitor — ou seu número — e um formulário preenchido. Os locais para justificativas podem ser consultados no site do TSE. \nQual o prazo para justificar?\nO eleitor tem 60 dias após cada turno para justificar. Para quem perdeu o primeiro turno\, o prazo vai até 6 de dezembro de 2018. Para quem perder o segundo\, vai até 27 de dezembro de 2018. Quem está no exterior tem 30 dias após a data de retorno ao Brasil para justificar. Basta apresentar no cartório eleitoral passagens\, cartões de embarque e passaporte. \nO que acontece com quem não justificar?\nO eleitor precisará regularizar sua situação com a Justiça Eleitoral pagando uma multa. Quem tem débito não pode tirar ou renovar passaporte\, receber salário se for funcionário público ou prestar concurso público. Quem não votar por três eleições seguidas e não regularizar a situação terá o título cancelado. \nQual é a multa para quem não votar?\nO valor é de até 3\,51 reais por turno. \nNão fiz minha biometria e perdi o primeiro turno. Posso voltar no segundo?\nOnde o cadastramento era obrigatório\, quem não fez a biometria não poderá votar em 2018. O eleitor deverá regularizar sua situação a partir de novembro. \nComo saber minha situação?\nÉ possível consultá-la no site do TSE\, informando nome completo\, nome da mãe e data de nascimento. \nQuando recomeça a campanha política no segundo turno?\nOs candidatos podem voltar a fazer campanha 24 horas a partir do fechamento das urnas\, ou seja\, a partir das 17h da segunda-feira (8). No rádio e na TV\, a propaganda vai de 12 a 26 de outubro.
URL:https://controle.olaserragaucha.com.br/evento/eleicoes-2o-turno/
LOCATION:Site TRE
ATTACH;FMTTYPE=image/jpeg:https://controle.olaserragaucha.com.br/wp-content/uploads/2018/10/segundo-turno-2018.jpg
END:VEVENT
BEGIN:VEVENT
DTSTART;TZID=America/Sao_Paulo:20181024T190000
DTEND;TZID=America/Sao_Paulo:20181024T210000
DTSTAMP:20260422T092150
CREATED:20181023T131625Z
LAST-MODIFIED:20181023T132213Z
UID:2684-1540407600-1540414800@controle.olaserragaucha.com.br
SUMMARY:Palestra-jantar sobre O papel da Inovação na Nova Economia com Marcos Batista
DESCRIPTION:Palestra e jantar: O PAPEL DA INOVAÇÃO NA NOVA ECONOMIA\, com Marcos Batista\, empreendedor\, designer e palestrante. Apresentador do programa Inova 360 da Record News\, coordenador de cursos de pós-graduação e professor do MBA do IEL\, diretor de Inovação do ITESCS\, proprietário do Studio Marcos Batista e Co-founder da empresa Palestras & Conteúdo. \n\nInformações sobre ingresso e programação: (54) 3461.7600\nWhatsApp: (54) 9 9711.0478
URL:https://controle.olaserragaucha.com.br/evento/palestra-jantar-sobre-o-papel-da-inovacao-na-nova-economia-com-marcos-batista/
LOCATION:CTG Trilha Serrana – Carlos Barbosa
ATTACH;FMTTYPE=image/jpeg:https://controle.olaserragaucha.com.br/wp-content/uploads/2018/10/Card-2.jpg
END:VEVENT
BEGIN:VEVENT
DTSTART;TZID=America/Sao_Paulo:20181023T200000
DTEND;TZID=America/Sao_Paulo:20181023T220000
DTSTAMP:20260422T092150
CREATED:20181023T132023Z
LAST-MODIFIED:20181023T132057Z
UID:2686-1540324800-1540332000@controle.olaserragaucha.com.br
SUMMARY:Lançamento da 6ª edição da Aldeia Sesc Caxias do Sul
DESCRIPTION:Nesta terça-feira (23/10)\, o Sistema Fercomério-RS/ Sesc promove olançamento da 6ª edição da Aldeia Sesc Caxias do Sul. O evento ocorre no Sesc Caxias do Sul (Rua Moreira César\, 2462)\, às 20h\, e irá divulgar a programação e atrações que vão acontecer em 2018. A atividade é direcionada para convidados\, autoridades e imprensa. Mais informações podem ser obtidas pelo telefone (54) 3209.8250\, no site www.sesc-rs.com.br/caxias_do_sul e na página www.facebook.com/sesccaxiasdosul. \nCom a temática da cultura africana\, a presença negra em muitos lugares do mundo\, que influenciou e alterou as artes desses lugares\, a Aldeia Sesc Caxias do Sul reverencia este legado na cidade e na Serra gaúcha se apropriando de um termo afro que saúda e acolhe todos povos: “Saravá”. A diáspora africana que separou muitos povos de seu continente desde o fim do século XVIII até o começo do século XX refez o mapa cultural do mundo. Com esse contexto\, a proposta da programação intensiva e diversificada da 6ª Aldeia Sesc Caxias do Sul é ocupar diversos espaços da cidade com música\, teatro\, dança\, artes plásticas\, artesanato\, debates e gastronomia. A proposta é que o evento seja um espaço para refletir e repensar o presente e o futuro possível\, onde raça\, gênero ou crença convivam em igualdade social\, artística e cultural.
URL:https://controle.olaserragaucha.com.br/evento/lancamento-da-6a-edicao-da-aldeia-sesc-caxias-do-sul/
LOCATION:SESC Caxias do Sul
ATTACH;FMTTYPE=image/png:https://controle.olaserragaucha.com.br/wp-content/uploads/2018/10/81085350-2bb3-4952-bd4d-3ea6da9599cc.png
END:VEVENT
END:VCALENDAR