BEGIN:VCALENDAR
VERSION:2.0
PRODID:-//Olá, Serra Gaúcha! - ECPv6.3.5//NONSGML v1.0//EN
CALSCALE:GREGORIAN
METHOD:PUBLISH
X-WR-CALNAME:Olá, Serra Gaúcha!
X-ORIGINAL-URL:https://controle.olaserragaucha.com.br
X-WR-CALDESC:Eventos para Olá, Serra Gaúcha!
REFRESH-INTERVAL;VALUE=DURATION:PT1H
X-Robots-Tag:noindex
X-PUBLISHED-TTL:PT1H
BEGIN:VTIMEZONE
TZID:America/Sao_Paulo
BEGIN:STANDARD
TZOFFSETFROM:-0200
TZOFFSETTO:-0300
TZNAME:-03
DTSTART:20180218T020000
END:STANDARD
BEGIN:DAYLIGHT
TZOFFSETFROM:-0300
TZOFFSETTO:-0200
TZNAME:-02
DTSTART:20181104T030000
END:DAYLIGHT
END:VTIMEZONE
BEGIN:VEVENT
DTSTART;TZID=America/Sao_Paulo:20181023T083000
DTEND;TZID=America/Sao_Paulo:20181023T093000
DTSTAMP:20260422T215744
CREATED:20181023T144340Z
LAST-MODIFIED:20181023T144340Z
UID:2694-1540283400-1540287000@controle.olaserragaucha.com.br
SUMMARY:Início do 1º Simpósio Estadual do Varejo
DESCRIPTION:O 1º Simpósio Estadual do Varejo\, promovido pelo Sindilojas Caxias\, será na próxima terça-feira (23.10)\, das 8 às 19 horas\, no Hotel Intercity (Av. Therezinha Pauletti Sanvitto\, 333)\, em Caxias do Sul. \nProgramação: \n1º Simpósio Estadual do Varejo                                                                                                    \n08h30min Abertura                                                                                                           \n08h45min Futuro inteligente além da inovação – Gil Giardelli \n09h45min Os desafios e as oportunidades da economia brasileira – Patrícia Palermo                    \n10h30min Intervalo – Sessão de Autógrafos \n11 horas “Inovação e Criatividade: o segredo que leva a sua ideia para frente” – Álvaro Fernando \n12 horas Almoço – Sessão de Autógrafos \n13 horas Case Havaianas: a internacionalização da marca – Ângela Hirata                            \n14 horas A jornada de um líder – Nalbert Bitencourt                                                       \n15 horas Intervalo – Sessão de Autógrafos \n15h30min Jogo do contente: como transformar as dificuldades em vantagens – Fabrício Carpinejar \n16h30min Palestra Magna com Glória Maria – Comunicação e Globalização \n17h30min Vender\, vender e vender. Os cases de sucesso da mídia integrada – Marcelo Pacheco \n18h15min Encerramento
URL:https://controle.olaserragaucha.com.br/evento/inicio-do-1o-simposio-estadual-do-varejo/
LOCATION:Hotel Intercity – Caxias do Sul
ATTACH;FMTTYPE=image/jpeg:https://controle.olaserragaucha.com.br/wp-content/uploads/2018/10/Simpósio-Estadual-do-Varejo-876x1030.jpg
END:VEVENT
BEGIN:VEVENT
DTSTART;TZID=America/Sao_Paulo:20181023T073000
DTEND;TZID=America/Sao_Paulo:20181023T093000
DTSTAMP:20260422T215744
CREATED:20181022T171736Z
LAST-MODIFIED:20181022T171736Z
UID:2669-1540279800-1540287000@controle.olaserragaucha.com.br
SUMMARY:Encontro de Gigantes: Todeschini\, Tacchini e Aurora
DESCRIPTION:O que: Encontro de Gigantes \nQuando: 23 de outubro (terça-feira)\, às 7h30 \nOnde: Bento Gonçalves Centro Empresarial \nQuanto: inscrições gratuitas\, com vagas limitadas pelo Sympla \nInformações: (54) 3218.1395 \nRegião com grande número de empreendedores\, a Serra gaúcha é pródiga em histórias de empresas que\, ao longo dos anos\, conquistaram posições relevantes entre os principais negócios do Brasil.  Reunir empresários que fazem parte dessa seleta lista para compartilharem suas vivências e experiências é o objetivo do Encontro de Gigantes\, que chega pela primeira vez a Bento Gonçalves no dia 23 de outubro\, às 7h30min. \nA iniciativa do Centro da Indústria\, Comércio e Serviços (CIC-BG) reunirá\, em um café da manhã no Centro de Eventos da entidade\, o diretor-presidente da Todeschini\, João Farina Neto; o diretor-geral da Cooperativa Vinícola Aurora\, Hermínio Ficagna; e o superintendente do Hospital Tacchini\, Hilton Mancio. \nCada um deles guarda trajetórias que são verdadeiros cases inspiradores. A família Farina reconstruiu a empresa Todeschini das cinzas\, após um incêndio\, transformando-a em uma referência moveleira da América Latina. Formado em Engenharia Mecânica\, João Farina Neto tem mestrado em Engenharia Industrial e forte atuação em entidades do segmento.  Ficagna\, por sua vez\, lidera a Aurora\, maior vinícola do Brasil\, com mais de 1\,1 mil famílias cooperativadas. Está na empresa há 20 anos e é formado em Ciências Econômicas e Jurídicas\, com pós-graduação em Direito Civil Contemporâneo e Direito Processual Civil. \nJá Mancio conduz a administração do Tacchini\, hospital referência para 31 municípios. Administrador de empresas\, ele tem especialização em Gestão da Qualidade\, Dinâmica de Grupo e MBA em Gestão Empresarial e post-MBA pelo Kellogg Graduate School of Management (EUA).
URL:https://controle.olaserragaucha.com.br/evento/encontro-de-gigantes-todeschini-tacchini-e-aurora/
LOCATION:Centro Empresarial – Bento Gonçalves
ATTACH;FMTTYPE=image/jpeg:https://controle.olaserragaucha.com.br/wp-content/uploads/2018/10/44975e17-0708-43d2-a850-bc6c0f7dd5e4-1.jpg
END:VEVENT
BEGIN:VEVENT
DTSTART;TZID=America/Sao_Paulo:20181021T140000
DTEND;TZID=America/Sao_Paulo:20181021T233000
DTSTAMP:20260422T215744
CREATED:20180723T200111Z
LAST-MODIFIED:20180723T200111Z
UID:1526-1540130400-1540164600@controle.olaserragaucha.com.br
SUMMARY:Início da Festa Nacional da Música
DESCRIPTION:
URL:https://controle.olaserragaucha.com.br/evento/inicio-da-festa-nacional-da-musica/
LOCATION:Fundação Casa das Artes\, Bento Gonçalves\, Rio Grande do Sul\, Brasil
ATTACH;FMTTYPE=image/jpeg:https://controle.olaserragaucha.com.br/wp-content/uploads/2018/07/Festa-Nacional-da-Musica-2018-Bento-Goncalves-.jpg
END:VEVENT
BEGIN:VEVENT
DTSTART;TZID=America/Sao_Paulo:20181020T203000
DTEND;TZID=America/Sao_Paulo:20181020T230000
DTSTAMP:20260422T215744
CREATED:20181015T183308Z
LAST-MODIFIED:20181015T183729Z
UID:2487-1540067400-1540076400@controle.olaserragaucha.com.br
SUMMARY:Jantar da Anchova
DESCRIPTION:Acontecerá no dia 20 de outubro\, as 20h30min\, o tradicional jantar da Anchova no Laço velho. \nGaranta já o seu ingresso! \nConvite Individual: R$: 90\,00\nENTIDADE BENEFICIADA: LAR DO ANCIÃO \nPRATO PRINCIPAL:\nAncho inteira assada no espeto \nACOMPANHAMENTOS:\nSaladas\, arroz branco\, strogonoff de frango\, batata soutè e sobremesa. \nBEBIDAS:\nVinhos da Vinícola Aurora e água mineral\, liberado até às 23h. \nPara adquirir os ingressos solicitamos que contatem diretamente através de EMAIL: orlandogermano@bol.com.br ou pelo ZHATT ZAPP: 54 99136-1425
URL:https://controle.olaserragaucha.com.br/evento/jantar-da-anchova/
LOCATION:CTG Laço Velho – Bento Gonçalves
ATTACH;FMTTYPE=image/jpeg:https://controle.olaserragaucha.com.br/wp-content/uploads/2018/10/43645909_985842004929182_8721413153067368448_n.jpg
END:VEVENT
BEGIN:VEVENT
DTSTART;TZID=America/Sao_Paulo:20181020T193000
DTEND;TZID=America/Sao_Paulo:20181020T233000
DTSTAMP:20260422T215744
CREATED:20181015T184423Z
LAST-MODIFIED:20181015T184508Z
UID:2490-1540063800-1540078200@controle.olaserragaucha.com.br
SUMMARY:18° Jantar do Peixe
DESCRIPTION:No próximo sábado (20) acontece a 18° edição do Jantar do Peixe em Farroupilha. O evento beneficente será realizado no Centro de Eventos Mário Bianchi a partir das 19h30. \n\nDe acordo com a organização\, ainda há ingressos disponíveis que podem ser adquiridos com os cozinheiros\, voluntárias do projeto Querer Bem ou na Prefeitura de Farroupilha.\n\nO valor é de R$ 120\,00 para adultos e de R$ 50\,00 para crianças de 7 a 12 anos. Crianças até 6 anos não pagam.
URL:https://controle.olaserragaucha.com.br/evento/18-jantar-do-peixe/
LOCATION:Centro de Eventos Mário Bianchi – Farroupilha
ATTACH;FMTTYPE=image/png:https://controle.olaserragaucha.com.br/wp-content/uploads/2018/10/jantar-do-peixe-2-287x300.png
END:VEVENT
BEGIN:VEVENT
DTSTART;TZID=America/Sao_Paulo:20181019T200000
DTEND;TZID=America/Sao_Paulo:20181019T233000
DTSTAMP:20260422T215744
CREATED:20180723T195919Z
LAST-MODIFIED:20180723T195919Z
UID:1522-1539979200-1539991800@controle.olaserragaucha.com.br
SUMMARY:Início do 5º Congresso Gaúcho de Direito de Família e Sucessões
DESCRIPTION:
URL:https://controle.olaserragaucha.com.br/evento/inicio-do-5o-congresso-gaucho-de-direito-de-familia-e-sucessoes/
LOCATION:Dall Onder Grande Hotel\, R. Herny Hugo Dreher\, 197 - Planalto\, Bento Gonçalves\, Rio Grande do Sul\, Brasil
ATTACH;FMTTYPE=image/jpeg:https://controle.olaserragaucha.com.br/wp-content/uploads/2018/07/congresso-gaucho-direito-familia.jpg
END:VEVENT
BEGIN:VEVENT
DTSTART;TZID=America/Sao_Paulo:20181018T193000
DTEND;TZID=America/Sao_Paulo:20181018T210000
DTSTAMP:20260422T215744
CREATED:20181015T124042Z
LAST-MODIFIED:20181015T124042Z
UID:2481-1539891000-1539896400@controle.olaserragaucha.com.br
SUMMARY:11º Estrelas do Empreendedorismo Sindilojas Bento Gonçalves
DESCRIPTION:
URL:https://controle.olaserragaucha.com.br/evento/11o-estrelas-do-empreendedorismo-sindilojas-bento-goncalves/
LOCATION:Centro Empresarial – Bento Gonçalves
ATTACH;FMTTYPE=image/jpeg:https://controle.olaserragaucha.com.br/wp-content/uploads/2018/10/42946630_1739687432824226_8115997075579076608_n.jpg
END:VEVENT
BEGIN:VEVENT
DTSTART;TZID=America/Sao_Paulo:20181017T180000
DTEND;TZID=America/Sao_Paulo:20181017T210000
DTSTAMP:20260422T215744
CREATED:20181015T123610Z
LAST-MODIFIED:20181015T123610Z
UID:2478-1539799200-1539810000@controle.olaserragaucha.com.br
SUMMARY:Lançamento do 1º Congresso da Transformação Digital & Expo TD
DESCRIPTION:
URL:https://controle.olaserragaucha.com.br/evento/lancamento-do-1o-congresso-da-transformacao-digital-expo-td/
LOCATION:Farina Park Hotel – Bento Gonçalves
ATTACH;FMTTYPE=image/png:https://controle.olaserragaucha.com.br/wp-content/uploads/2018/10/congresso_facebook.png
END:VEVENT
BEGIN:VEVENT
DTSTART;TZID=America/Sao_Paulo:20181016T190000
DTEND;TZID=America/Sao_Paulo:20181016T220000
DTSTAMP:20260422T215744
CREATED:20181015T185434Z
LAST-MODIFIED:20181016T115314Z
UID:2493-1539716400-1539727200@controle.olaserragaucha.com.br
SUMMARY:Lançamento do Prime Gourmet Club Caxias do Sul\, Farroupilha e Flores da Cunha
DESCRIPTION:Serviço:\nO que: Lançamento do Prime Gourmet Club Caxias do Sul\, Farroupilha e Flores da Cunha\nQuando: Dia 16 de outubro\, terça-feira\nHorário: 19h\nOnde: Hotel Intercity – Caxias do Sul\nComo funciona: Um guia que oferece vantagens em mais de 100 estabelecimentos gastronômicos\, turísticos e de serviços em Caxias do Sul\, Farroupilha e Flores da Cunha\nInvestimento: R$ 200\nOnde comprar: www.primegourmetclub.com.br \, app e pontos de venda
URL:https://controle.olaserragaucha.com.br/evento/lancamento-do-prime-gourmet-club-caxias-do-sul-farroupilha-e-flores-da-cunha/
LOCATION:Intercity Caxias do Sul
ATTACH;FMTTYPE=image/jpeg:https://controle.olaserragaucha.com.br/wp-content/uploads/2018/10/1529150247823182.jpg
END:VEVENT
BEGIN:VEVENT
DTSTART;TZID=America/Sao_Paulo:20181011T180000
DTEND;TZID=America/Sao_Paulo:20181011T213000
DTSTAMP:20260422T215744
CREATED:20181002T144105Z
LAST-MODIFIED:20181002T144105Z
UID:2303-1539280800-1539293400@controle.olaserragaucha.com.br
SUMMARY:Cerimônia de abertura da ExpoGaribaldi
DESCRIPTION:Dia 11.10 – quinta-feira \n17h Recepção \n17h Archipellago Duo – Violão e Violino (Música Popular Erudita) \n18h Cerimonial de Abertura \n19h Maico Oliveira (Sertanejo) \n20h30 Grupo Ka Pra Nós (Pagode\, Pagonejo\, Sambarock) \n21h30 Encerramento da Feira
URL:https://controle.olaserragaucha.com.br/evento/cerimonia-de-abertura-da-expogaribaldi/
ATTACH;FMTTYPE=image/jpeg:https://controle.olaserragaucha.com.br/wp-content/uploads/2018/10/35c2867e297746f7db0a080a5abc5782.jpeg
END:VEVENT
BEGIN:VEVENT
DTSTART;TZID=America/Sao_Paulo:20181009T183000
DTEND;TZID=America/Sao_Paulo:20181009T213000
DTSTAMP:20260422T215744
CREATED:20181005T130050Z
LAST-MODIFIED:20181005T130050Z
UID:2358-1539109800-1539120600@controle.olaserragaucha.com.br
SUMMARY:Encontro do Bem com as Orquestras Villa-Lobos e Educando com Arte
DESCRIPTION:
URL:https://controle.olaserragaucha.com.br/evento/encontro-do-bem-com-as-orquestras-villa-lobos-e-educando-com-arte/
LOCATION:Auditório do Foro II – Porto Alegre
ATTACH;FMTTYPE=image/png:https://controle.olaserragaucha.com.br/wp-content/uploads/2018/10/orquestra.png
END:VEVENT
BEGIN:VEVENT
DTSTART;TZID=America/Sao_Paulo:20181006T080000
DTEND;TZID=America/Sao_Paulo:20181006T233000
DTSTAMP:20260422T215744
CREATED:20180723T195440Z
LAST-MODIFIED:20180723T195440Z
UID:1519-1538812800-1538868600@controle.olaserragaucha.com.br
SUMMARY:Início do Bento em Dança
DESCRIPTION:
URL:https://controle.olaserragaucha.com.br/evento/inicio-do-bento-em-danca/
LOCATION:Parque de Eventos\, Alameda Fenavinho\, 481\, Bento Gonçalves\, Rio Grande do Sul\, Brasil
ATTACH;FMTTYPE=image/jpeg:https://controle.olaserragaucha.com.br/wp-content/uploads/2018/07/bento-em-dança-2018.jpg
END:VEVENT
BEGIN:VEVENT
DTSTART;TZID=America/Sao_Paulo:20181002T190000
DTEND;TZID=America/Sao_Paulo:20181002T210000
DTSTAMP:20260422T215744
CREATED:20181001T174539Z
LAST-MODIFIED:20181001T174607Z
UID:2279-1538506800-1538514000@controle.olaserragaucha.com.br
SUMMARY:Abertura oficial do 12º Fórum Municipal de Turismo
DESCRIPTION:Programação: \n18h as 19h – Credenciamento. \n19h – Abertura oficial. \n19h15min – Painel Ferramentas de profissionalização do Turismo: alvará turístico e aplicativo Bento pura Inspiração com Presidente do Comtur Marcia Ferronato e Secretário Municipal de Turismo Rodrigo Ferri Parissoto. \n20h – Palestra “O modelo de promoção da Nova Zelândia” com Karem Baena Basulto.\nSobre a palestrante: Nascida em São Paulo\, mas o seu gosto por conhecer e aprender diferentes culturas fez com que sempre buscasse novas aventuras. Além de São Paulo e Brasília\, morou\, estudou e trabalhou nos Estados Unidos\, na Espanha e em St Marteen no Caribe. Estudou Gestão Hoteleira em Canela/RS e fez pós-graduação em Desenvolvimento Sustentável na Universidade de Brasília. Com mais de 25 anos de experiência em posições de destaque no mercado de turismo\, incluindo cargos de gerência na Embratur (Instituto Brasileiro de Turismo) e na Brazilian Luxury Travel Association\, Karem abriu o primeiro escritório de Turismo da Nova Zelândia na América do Sul\, baseado em São Paulo\, assumindo o cargo de gerente regional onde atua desde dezembro de 2013. \n21h – Encerramento
URL:https://controle.olaserragaucha.com.br/evento/abertura-oficial-do-12o-forum-municipal-de-turismo/
LOCATION:Fundação Casa das Artes\, Bento Gonçalves\, Rio Grande do Sul\, Brasil
ATTACH;FMTTYPE=image/jpeg:https://controle.olaserragaucha.com.br/wp-content/uploads/2018/10/Banner-Site2.jpg
END:VEVENT
BEGIN:VEVENT
DTSTART;TZID=America/Sao_Paulo:20180929T090000
DTEND;TZID=America/Sao_Paulo:20180929T163000
DTSTAMP:20260422T215744
CREATED:20180928T190217Z
LAST-MODIFIED:20180928T190315Z
UID:2258-1538211600-1538238600@controle.olaserragaucha.com.br
SUMMARY:Início da Avaliação Nacional de Vinhos
DESCRIPTION:Data: 29 de Setembro de 2018 \nLocal: Pavilhão “E” do Parque de Eventos de Bento Gonçalves\, RS (Rua Alameda Fenavinho 481\, B. Fenavinho\, Bento Gonçalves\, RS) \nPROGRAMAÇÃO \n08h Credenciamento \n09h Abertura \n09h30 Degustação / Comentários \n11h Intervalo \n11h30 Entrega de Troféus VITIS \n12h Degustação / Comentários \n13h Prova de Espumantes \n13h30 Almoço \n16h30 Encerramento \nOS PARTICIPANTES INSCRITOS RECEBERÃO \n\nPasta com material informativo\nBoletim sobre a climatologia da safra 2018\nFichas de degustação de vinho\nUma taça de vinho para degustação\nUma taça do Espumante\nUm exemplar da Revista Brasileira de Viticultura e Enologia\nCrachá de identificação\nCertificado de participação será online\nAlmoço (com bebidas inclusas)
URL:https://controle.olaserragaucha.com.br/evento/inicio-da-avaliacao-nacional-de-vinhos/
ATTACH;FMTTYPE=image/jpeg:https://controle.olaserragaucha.com.br/wp-content/uploads/2018/09/Avaliacao-Nacional-de-Vinhos.jpg
END:VEVENT
BEGIN:VEVENT
DTSTART;TZID=America/Sao_Paulo:20180926T080000
DTEND;TZID=America/Sao_Paulo:20180926T170000
DTSTAMP:20260422T215744
CREATED:20180705T181646Z
LAST-MODIFIED:20180705T181646Z
UID:1243-1537948800-1537981200@controle.olaserragaucha.com.br
SUMMARY:Início do Wine South America - Feira Internacional do Vinho
DESCRIPTION:
URL:https://controle.olaserragaucha.com.br/evento/inicio-do-wine-south-america-feira-internacional-do-vinho/
LOCATION:Parque de Eventos\, Bento Gonçalves
ATTACH;FMTTYPE=image/png:https://controle.olaserragaucha.com.br/wp-content/uploads/2018/07/cover_wine_030718.png
END:VEVENT
BEGIN:VEVENT
DTSTART;TZID=America/Sao_Paulo:20180826T110000
DTEND;TZID=America/Sao_Paulo:20180826T180000
DTSTAMP:20260422T215744
CREATED:20180814T123722Z
LAST-MODIFIED:20180814T194949Z
UID:1715-1535281200-1535306400@controle.olaserragaucha.com.br
SUMMARY:BAH BBQ: Open Food de churrasco no Vale dos Vinhedos
DESCRIPTION:Preparados para um domingo de muito churrasco\, bebidas e diversão? Vem aí a 1ª Edição do BAH BBQ que vai agitar um dos pontos mais badalados da Serra Gaúcha: TRANSFERIDO O LOCAL DO EVENTO: Hotel Villa Michelon em Bento Gonçalves. O evento ocorre no dia 26 de agosto a partir das 11h. \nOs participantes poderão desfrutar de uma dezena de estações e aprender sobre técnicas e harmonização com os churrasqueiros mais conceituados da região. Além disso\, as bebidas ficam por conta da Vinícola Salton (vinhos e sucos) e da Blauth Bier (cervejarias). O churrasco é livre\, no segmento Open Food. Quer uma notícia ainda melhor? Os ingressos\, no 3° lote\, custam apenas R$ 45\,00 por pessoa. O 1° lote e 2º lote já estão esgotados. Menores de cinco anos não pagam. Crianças de cinco a 12 anos pagam meia\, apenas no local. Na hora\, a entrada custa R$ 60\,00\, com ingressos limitados. \nAchou que era “só” churrasco e bebida? A trilha sonora do evento fica a cargo do Trio Gaúcho e das bandas Norma Jean e os Comprimidos e Big Twin. \nE a criançada? Para os baixinhos e baixinhas\, espaço kids liberado. O BAH BBQ é completo e conta\, ainda\, com amplo estacionamento\, banheiros e tudo que um evento deste porte necessita para deixar o seu dia e o de sua família completo. \nNa chegada\, todo participante ganha um prato\, um garfo e um copo do evento. Sobremesa\, café e as bebidas não estão inclusas no valor do ingresso. Ao final do evento\, será sorteada uma churrasqueira Porteña da Scheer. \nPontos de venda: Blauth Bier (Farroupilha)\, Beltram e Comim Casa de Carnes (Bento Gonçalves)\, The BAH Burguer (Caxias do Sul)\, Família Butelli (Bento Gonçalves) ou nos escritórios da Rádio Jovem Pan em Caxias do Sul\, Bento Gonçalves e Farroupilha. Mais informações: (54) 3455-3999.
URL:https://controle.olaserragaucha.com.br/evento/bah-bbq-open-food-de-churrasco-no-vale-dos-vinhedos/
LOCATION:Hotel Villa Michelon – Vale dos Vinhedos – Bento Gonçalves\, Bento Gonçalves\, Rio Grande do Sul\, Brasil
ATTACH;FMTTYPE=image/jpeg:https://controle.olaserragaucha.com.br/wp-content/uploads/2018/08/BAH-BBQ-LOCAL-TRANSFERIDO.jpeg
ORGANIZER;CN="R%C3%A1dio Jovem Pan Serra Ga%C3%BAcha 92.5":MAILTO:geral@gruporscom.com.br
END:VEVENT
BEGIN:VEVENT
DTSTART;TZID=America/Sao_Paulo:20180801T193000
DTEND;TZID=America/Sao_Paulo:20180801T213000
DTSTAMP:20260422T215744
CREATED:20180723T195149Z
LAST-MODIFIED:20180723T195149Z
UID:1515-1533151800-1533159000@controle.olaserragaucha.com.br
SUMMARY:Palestra Comércio Legal
DESCRIPTION:
URL:https://controle.olaserragaucha.com.br/evento/palestra-comercio-legal/
LOCATION:Sede da CDL BG\, Rua: Marechal Deodoro\, 139\, Bento Gonçalves\, Rio Grande do Sul\, Brasil
ATTACH;FMTTYPE=image/png:https://controle.olaserragaucha.com.br/wp-content/uploads/2018/07/cdl-bento-gonçalves.png
ORGANIZER;CN="CDL BENTO GON%C3%87ALVES":MAILTO:cdltreinamento@cdlbento.com.br
END:VEVENT
BEGIN:VEVENT
DTSTART;TZID=America/Sao_Paulo:20180728T163000
DTEND;TZID=America/Sao_Paulo:20180728T193000
DTSTAMP:20260422T215744
CREATED:20180705T180347Z
LAST-MODIFIED:20180705T180347Z
UID:1238-1532795400-1532806200@controle.olaserragaucha.com.br
SUMMARY:1° Encontro Nacional de Confrarias do Vinho
DESCRIPTION:
URL:https://controle.olaserragaucha.com.br/evento/1-encontro-nacional-de-confrarias-do-vinho/
LOCATION:Fundação Casa das Artes\, Bento Gonçalves\, Rio Grande do Sul\, Brasil
ATTACH;FMTTYPE=image/png:https://controle.olaserragaucha.com.br/wp-content/uploads/2018/07/1-e-mail-marketing.png
END:VEVENT
BEGIN:VEVENT
DTSTART;TZID=America/Sao_Paulo:20180710T190000
DTEND;TZID=America/Sao_Paulo:20180710T200000
DTSTAMP:20260422T215744
CREATED:20180705T175753Z
LAST-MODIFIED:20180705T175753Z
UID:1234-1531249200-1531252800@controle.olaserragaucha.com.br
SUMMARY:Inauguração da Décima Pizzas - Bento Gonçalves
DESCRIPTION:
URL:https://controle.olaserragaucha.com.br/evento/inauguracao-da-decima-pizzas-bento-goncalves/
LOCATION:Bairro Santa Marta\, Rua: Carlos Ranzi\, 319\, Bento Gonçalves\, Rio Grande do Sul\, Brasil
ATTACH;FMTTYPE=image/jpeg:https://controle.olaserragaucha.com.br/wp-content/uploads/2018/07/Convite.jpeg
END:VEVENT
END:VCALENDAR